BEGIN:VCALENDAR
VERSION:2.0
PRODID:-//Ankara Müzik ve Güzel Sanatlar Üniversitesi - ECPv6.15.20//NONSGML v1.0//EN
CALSCALE:GREGORIAN
METHOD:PUBLISH
X-WR-CALNAME:Ankara Müzik ve Güzel Sanatlar Üniversitesi
X-ORIGINAL-URL:https://www.mgu.edu.tr
X-WR-CALDESC:Ankara Müzik ve Güzel Sanatlar Üniversitesi için etkinlikler
REFRESH-INTERVAL;VALUE=DURATION:PT1H
X-Robots-Tag:noindex
X-PUBLISHED-TTL:PT1H
BEGIN:VTIMEZONE
TZID:Europe/Istanbul
BEGIN:STANDARD
TZOFFSETFROM:+0300
TZOFFSETTO:+0300
TZNAME:+03
DTSTART:20230101T000000
END:STANDARD
END:VTIMEZONE
BEGIN:VEVENT
DTSTART;VALUE=DATE:20240417
DTEND;VALUE=DATE:20240418
DTSTAMP:20260421T055924
CREATED:20240417T050855Z
LAST-MODIFIED:20240417T050855Z
UID:71785-1713312000-1713398399@www.mgu.edu.tr
SUMMARY:Barış İçin Küçük Bir Şey Yap Hibrit İyi Niyet Performans Bienali
DESCRIPTION:
URL:https://www.mgu.edu.tr/etkinlik/baris-icin-kucuk-bir-sey-yap-hibrit-iyi-niyet-performans-bienali/
LOCATION:MGÜ Sanat Galerisi\, Turan Güneş Bulvarı Yukarı Dikmen Mahallesi\, Neşet Ertaş Caddesi\, No:4 06550 Oran Çankaya/Ankara\, Ankara\, Ankara\, 06550\, Türkiye
CATEGORIES:Sanat ve Tasarım Fakültesi
ATTACH;FMTTYPE=image/jpeg:https://www.mgu.edu.tr/wp-content/uploads/2024/04/Baris-Icin-Kucuk-Bir-Sey-Yap-Hibrit-Iyi-Niyet-Performans-Bienali.jpeg
ORGANIZER;CN="Sanat ve Tasar%C4%B1m Fak%C3%BCltesi":MAILTO:iletisim@mgu.edu.tr
END:VEVENT
BEGIN:VEVENT
DTSTART;VALUE=DATE:20240417
DTEND;VALUE=DATE:20240418
DTSTAMP:20260421T055924
CREATED:20240417T074246Z
LAST-MODIFIED:20240417T074310Z
UID:71939-1713312000-1713398399@www.mgu.edu.tr
SUMMARY:"Barış İçin Küçük Bir Şey Yap" Hibrit İyi Niyet Performans Bienali Karma Sergisi
DESCRIPTION:
URL:https://www.mgu.edu.tr/etkinlik/baris-icin-kucuk-bir-sey-yap-hibrit-iyi-niyet-performans-bienali-karma-sergisi/
LOCATION:MGÜ Sanat Galerisi\, Turan Güneş Bulvarı Yukarı Dikmen Mahallesi\, Neşet Ertaş Caddesi\, No:4 06550 Oran Çankaya/Ankara\, Ankara\, Ankara\, 06550\, Türkiye
CATEGORIES:Sanat ve Tasarım Fakültesi
ATTACH;FMTTYPE=image/jpeg:https://www.mgu.edu.tr/wp-content/uploads/2024/04/Baris-Icin-Kucuk-Bir-Sey-Yap-Hibrit-Iyi-Niyet-Performans-Bienali-Afis-2.jpg
ORGANIZER;CN="Sanat ve Tasar%C4%B1m Fak%C3%BCltesi":MAILTO:iletisim@mgu.edu.tr
END:VEVENT
END:VCALENDAR