BEGIN:VCALENDAR
VERSION:2.0
PRODID:-//Ankara Müzik ve Güzel Sanatlar Üniversitesi - ECPv6.15.20//NONSGML v1.0//EN
CALSCALE:GREGORIAN
METHOD:PUBLISH
X-WR-CALNAME:Ankara Müzik ve Güzel Sanatlar Üniversitesi
X-ORIGINAL-URL:https://www.mgu.edu.tr
X-WR-CALDESC:Ankara Müzik ve Güzel Sanatlar Üniversitesi için etkinlikler
REFRESH-INTERVAL;VALUE=DURATION:PT1H
X-Robots-Tag:noindex
X-PUBLISHED-TTL:PT1H
BEGIN:VTIMEZONE
TZID:Europe/Istanbul
BEGIN:STANDARD
TZOFFSETFROM:+0300
TZOFFSETTO:+0300
TZNAME:+03
DTSTART:20230101T000000
END:STANDARD
END:VTIMEZONE
BEGIN:VEVENT
DTSTART;TZID=Europe/Istanbul:20240515T153000
DTEND;TZID=Europe/Istanbul:20240515T153000
DTSTAMP:20260421T085249
CREATED:20240514T054531Z
LAST-MODIFIED:20240514T054602Z
UID:73142-1715787000-1715787000@www.mgu.edu.tr
SUMMARY:MGÜ Bestecilik Buluşmaları “Nadir Plakları Anlamak”
DESCRIPTION:
URL:https://www.mgu.edu.tr/etkinlik/mgu-bestecilik-bulusmalari-nadir-plaklari-anlamak/
LOCATION:İcra Sanatları Fakültesi 506 No’lu Dinleti Salonu\, Turan Güneş Bulvarı Yukarı Dikmen Mahallesi\, Neşet Ertaş Caddesi\, No:4 06550 Oran\, Çankaya\, ANKARA\, 06550\, Türkiye
CATEGORIES:Bestecilik Bölümü
ATTACH;FMTTYPE=image/jpeg:https://www.mgu.edu.tr/wp-content/uploads/2024/05/MGU-Bestecilik-Bulusmalari-Nadir-Plaklari-Anlamak.jpeg
ORGANIZER;CN="Bestecilik B%C3%B6l%C3%BCm%C3%BC":MAILTO:isf@mgu.edu.tr
END:VEVENT
END:VCALENDAR