BEGIN:VCALENDAR
VERSION:2.0
PRODID:-//Ankara Müzik ve Güzel Sanatlar Üniversitesi - ECPv6.15.20//NONSGML v1.0//EN
CALSCALE:GREGORIAN
METHOD:PUBLISH
X-ORIGINAL-URL:https://www.mgu.edu.tr
X-WR-CALDESC:Ankara Müzik ve Güzel Sanatlar Üniversitesi için etkinlikler
REFRESH-INTERVAL;VALUE=DURATION:PT1H
X-Robots-Tag:noindex
X-PUBLISHED-TTL:PT1H
BEGIN:VTIMEZONE
TZID:Europe/Istanbul
BEGIN:STANDARD
TZOFFSETFROM:+0300
TZOFFSETTO:+0300
TZNAME:+03
DTSTART:20230101T000000
END:STANDARD
END:VTIMEZONE
BEGIN:VEVENT
DTSTART;TZID=Europe/Istanbul:20240602T143000
DTEND;TZID=Europe/Istanbul:20240602T143000
DTSTAMP:20260421T072341
CREATED:20240530T121947Z
LAST-MODIFIED:20240530T122042Z
UID:74117-1717338600-1717338600@www.mgu.edu.tr
SUMMARY:Sürekli Eğitim Uygulama ve Araştırma Merkezi Öğrencileri "Bahar Dönemi Konseri"
DESCRIPTION:
URL:https://www.mgu.edu.tr/etkinlik/surekli-egitim-uygulama-ve-arastirma-merkezi-ogrencileri-bahar-donemi-konseri/
LOCATION:İcra Sanatları Fakültesi 206 No’lu Dinleti Salonu\, Turan Güneş Bulvarı Yukarı Dikmen Mahallesi\, Neşet Ertaş Caddesi\, No:4 06550 Oran\, Çankaya\, ANKARA\, 06550
CATEGORIES:Sürekli Eğitim Uygulama ve Araştırma Merkezi
ATTACH;FMTTYPE=image/jpeg:https://www.mgu.edu.tr/wp-content/uploads/2024/05/SEM-Bahar-Donemi-Konseri-Afis.jpg
ORGANIZER;CN="S%C3%BCrekli E%C4%9Fitim Uygulama ve Ara%C5%9Ft%C4%B1rma Merkezi":MAILTO:sem@mgu.edu.tr
END:VEVENT
BEGIN:VEVENT
DTSTART;TZID=Europe/Istanbul:20240602T163000
DTEND;TZID=Europe/Istanbul:20240602T163000
DTSTAMP:20260421T072341
CREATED:20240530T122243Z
LAST-MODIFIED:20240530T122458Z
UID:74122-1717345800-1717345800@www.mgu.edu.tr
SUMMARY:Sürekli Eğitim Uygulama ve Araştırma Merkezi Öğrencileri "Çocuk Korosu Konseri"
DESCRIPTION:
URL:https://www.mgu.edu.tr/etkinlik/surekli-egitim-uygulama-ve-arastirma-merkezi-ogrencileri-cocuk-korosu-konseri/
LOCATION:İcra Sanatları Fakültesi 206 No’lu Dinleti Salonu\, Turan Güneş Bulvarı Yukarı Dikmen Mahallesi\, Neşet Ertaş Caddesi\, No:4 06550 Oran\, Çankaya\, ANKARA\, 06550
CATEGORIES:Sürekli Eğitim Uygulama ve Araştırma Merkezi
ATTACH;FMTTYPE=image/jpeg:https://www.mgu.edu.tr/wp-content/uploads/2024/05/SEM-Cocuk-Korosu-Konseri-Afis.jpg
ORGANIZER;CN="S%C3%BCrekli E%C4%9Fitim Uygulama ve Ara%C5%9Ft%C4%B1rma Merkezi":MAILTO:sem@mgu.edu.tr
END:VEVENT
END:VCALENDAR