BEGIN:VCALENDAR
VERSION:2.0
PRODID:-//Ankara Müzik ve Güzel Sanatlar Üniversitesi - ECPv6.15.20//NONSGML v1.0//EN
CALSCALE:GREGORIAN
METHOD:PUBLISH
X-WR-CALNAME:Ankara Müzik ve Güzel Sanatlar Üniversitesi
X-ORIGINAL-URL:https://www.mgu.edu.tr
X-WR-CALDESC:Ankara Müzik ve Güzel Sanatlar Üniversitesi için etkinlikler
REFRESH-INTERVAL;VALUE=DURATION:PT1H
X-Robots-Tag:noindex
X-PUBLISHED-TTL:PT1H
BEGIN:VTIMEZONE
TZID:Europe/Istanbul
BEGIN:STANDARD
TZOFFSETFROM:+0300
TZOFFSETTO:+0300
TZNAME:+03
DTSTART:20230101T000000
END:STANDARD
END:VTIMEZONE
BEGIN:VEVENT
DTSTART;TZID=Europe/Istanbul:20240611T203000
DTEND;TZID=Europe/Istanbul:20240611T203000
DTSTAMP:20260421T085207
CREATED:20240610T102832Z
LAST-MODIFIED:20240610T102851Z
UID:74706-1718137800-1718137800@www.mgu.edu.tr
SUMMARY:"Ozan Dolu Anadolu" Konseri
DESCRIPTION:
URL:https://www.mgu.edu.tr/etkinlik/ozan-dolu-anadolu-konseri/
LOCATION:CSO Konser Salonu\, Talatpaşa Bulvarı\, No: 38\, 06330 Opera\, Ankara\, Çankaya\, Türkiye
CATEGORIES:Ankara Müzik ve Güzel Sanatlar Üniversitesi
ATTACH;FMTTYPE=image/jpeg:https://www.mgu.edu.tr/wp-content/uploads/2024/06/Ozan-Dolu-Anadolu-Afis.jpeg
ORGANIZER;CN="Ankara M%C3%BCzik ve G%C3%BCzel Sanatlar %C3%9Cniversitesi":MAILTO:iletisim@mgu.edu.tr
END:VEVENT
END:VCALENDAR