BEGIN:VCALENDAR
VERSION:2.0
PRODID:-//Ankara Müzik ve Güzel Sanatlar Üniversitesi - ECPv6.15.20//NONSGML v1.0//EN
CALSCALE:GREGORIAN
METHOD:PUBLISH
X-WR-CALNAME:Ankara Müzik ve Güzel Sanatlar Üniversitesi
X-ORIGINAL-URL:https://www.mgu.edu.tr
X-WR-CALDESC:Ankara Müzik ve Güzel Sanatlar Üniversitesi için etkinlikler
REFRESH-INTERVAL;VALUE=DURATION:PT1H
X-Robots-Tag:noindex
X-PUBLISHED-TTL:PT1H
BEGIN:VTIMEZONE
TZID:Europe/Istanbul
BEGIN:STANDARD
TZOFFSETFROM:+0300
TZOFFSETTO:+0300
TZNAME:+03
DTSTART:20230101T000000
END:STANDARD
END:VTIMEZONE
BEGIN:VEVENT
DTSTART;TZID=Europe/Istanbul:20241023T150000
DTEND;TZID=Europe/Istanbul:20241023T150000
DTSTAMP:20260421T133616
CREATED:20241023T130652Z
LAST-MODIFIED:20241023T131016Z
UID:82932-1729695600-1729695600@www.mgu.edu.tr
SUMMARY:Sciacca-Palmeri İkilisi Konseri
DESCRIPTION:
URL:https://www.mgu.edu.tr/etkinlik/sciacca-palmeri-ikilisi-konseri/
LOCATION:Sosyal Bina Balo Salonu\, Turan Güneş Bulvarı Yukarı Dikmen Mahallesi\, Neşet Ertaş Caddesi\, No:4 06550 Oran\, Çankaya\, ANKARA\, 06550
CATEGORIES:Kariyer Geliştirme Uygulama ve Araştırma Merkezi,MGÜ Gitar Topluluğu
ATTACH;FMTTYPE=image/jpeg:https://www.mgu.edu.tr/wp-content/uploads/2024/10/Sciacca-Palmeri-Ikilisi-Konseri-Afis.jpg
ORGANIZER;CN="MG%C3%9C Gitar Toplulu%C4%9Fu":MAILTO:guitar@mgu.edu.tr
END:VEVENT
END:VCALENDAR