BEGIN:VCALENDAR
VERSION:2.0
PRODID:-//Ankara Müzik ve Güzel Sanatlar Üniversitesi - ECPv6.15.20//NONSGML v1.0//EN
CALSCALE:GREGORIAN
METHOD:PUBLISH
X-ORIGINAL-URL:https://www.mgu.edu.tr
X-WR-CALDESC:Ankara Müzik ve Güzel Sanatlar Üniversitesi için etkinlikler
REFRESH-INTERVAL;VALUE=DURATION:PT1H
X-Robots-Tag:noindex
X-PUBLISHED-TTL:PT1H
BEGIN:VTIMEZONE
TZID:Europe/Istanbul
BEGIN:STANDARD
TZOFFSETFROM:+0300
TZOFFSETTO:+0300
TZNAME:+03
DTSTART:20230101T000000
END:STANDARD
END:VTIMEZONE
BEGIN:VEVENT
DTSTART;TZID=Europe/Istanbul:20241030T000000
DTEND;TZID=Europe/Istanbul:20241114T000000
DTSTAMP:20260421T150707
CREATED:20241023T125123Z
LAST-MODIFIED:20241024T102541Z
UID:82910-1730246400-1731542400@www.mgu.edu.tr
SUMMARY:Cumhuriyetin 101. Yılına Armağan Temalı Karma Sergi
DESCRIPTION:
URL:https://www.mgu.edu.tr/etkinlik/cumhuriyetin-100-yilina-armagan-temali-karma-sergi/
LOCATION:Ankara
CATEGORIES:Sanat ve Tasarım Fakültesi
ATTACH;FMTTYPE=image/jpeg:https://www.mgu.edu.tr/wp-content/uploads/2024/10/Cumhuriyetin-101.-Yilina-Armagan-Temali-Karma-Sergi-Afis.jpg
ORGANIZER;CN="Sanat ve Tasar%C4%B1m Fak%C3%BCltesi":MAILTO:iletisim@mgu.edu.tr
END:VEVENT
BEGIN:VEVENT
DTSTART;TZID=Europe/Istanbul:20241108T153000
DTEND;TZID=Europe/Istanbul:20241108T153000
DTSTAMP:20260421T150707
CREATED:20241107T100318Z
LAST-MODIFIED:20241107T101237Z
UID:83781-1731079800-1731079800@www.mgu.edu.tr
SUMMARY:Cumhuriyet ve Atatürk’ü Anma Konseri
DESCRIPTION:
URL:https://www.mgu.edu.tr/etkinlik/cumhuriyet-ve-ataturku-anma-konseri/
LOCATION:Müzik ve Güzel Sanatlar Eğitim Fakültesi\, Turan Güneş Bulvarı Yukarı Dikmen Mahallesi\, Neşet Ertaş Caddesi No: 4 Oran Çankaya\, Ankara\, Ankara\, 06550\, Turkey
CATEGORIES:Müzik ve Sahne Sanatları Fakültesi,Orkestra ve Koro Şefliği Bölümü
ATTACH;FMTTYPE=image/jpeg:https://www.mgu.edu.tr/wp-content/uploads/2024/11/Cumhuriyet-ve-Ataturku-Anma-Konseri-Afis.jpg
ORGANIZER;CN="Orkestra ve Koro %C5%9Eefli%C4%9Fi B%C3%B6l%C3%BCm%C3%BC":MAILTO:isf@mgu.edu.tr
END:VEVENT
END:VCALENDAR