BEGIN:VCALENDAR
VERSION:2.0
PRODID:-//Ankara Müzik ve Güzel Sanatlar Üniversitesi - ECPv6.15.20//NONSGML v1.0//EN
CALSCALE:GREGORIAN
METHOD:PUBLISH
X-WR-CALNAME:Ankara Müzik ve Güzel Sanatlar Üniversitesi
X-ORIGINAL-URL:https://www.mgu.edu.tr
X-WR-CALDESC:Ankara Müzik ve Güzel Sanatlar Üniversitesi için etkinlikler
REFRESH-INTERVAL;VALUE=DURATION:PT1H
X-Robots-Tag:noindex
X-PUBLISHED-TTL:PT1H
BEGIN:VTIMEZONE
TZID:Europe/Istanbul
BEGIN:STANDARD
TZOFFSETFROM:+0300
TZOFFSETTO:+0300
TZNAME:+03
DTSTART:20230101T000000
END:STANDARD
END:VTIMEZONE
BEGIN:VEVENT
DTSTART;TZID=Europe/Istanbul:20241125T150000
DTEND;TZID=Europe/Istanbul:20241125T150000
DTSTAMP:20260421T150528
CREATED:20241125T110134Z
LAST-MODIFIED:20241125T110230Z
UID:85732-1732546800-1732546800@www.mgu.edu.tr
SUMMARY:Öğretmenler Günü Konseri
DESCRIPTION:
URL:https://www.mgu.edu.tr/etkinlik/ogretmenler-gunu-konseri/
LOCATION:MGÜ Eğitim Fakültesi Fuaye Alanı\, Turan Güneş Bulvarı Yukarı Dikmen Mahallesi\, Neşet Ertaş Caddesi\, No:4 06550 Oran\, Çankaya\, ANKARA\, 06550
CATEGORIES:Müzik Eğitimi Bölümü,Müzik ve Güzel Sanatlar Eğitim Fakültesi
ATTACH;FMTTYPE=image/jpeg:https://www.mgu.edu.tr/wp-content/uploads/2024/11/Ogretmenler-Gunu-Konseri-Afis.jpg
ORGANIZER;CN="M%C3%BCzik ve G%C3%BCzel Sanatlar E%C4%9Fitim Fak%C3%BCltesi":MAILTO:mgsef@mgu.edu.tr
END:VEVENT
END:VCALENDAR