BEGIN:VCALENDAR
VERSION:2.0
PRODID:-//Ankara Müzik ve Güzel Sanatlar Üniversitesi - ECPv6.15.20//NONSGML v1.0//EN
CALSCALE:GREGORIAN
METHOD:PUBLISH
X-WR-CALNAME:Ankara Müzik ve Güzel Sanatlar Üniversitesi
X-ORIGINAL-URL:https://www.mgu.edu.tr
X-WR-CALDESC:Ankara Müzik ve Güzel Sanatlar Üniversitesi için etkinlikler
REFRESH-INTERVAL;VALUE=DURATION:PT1H
X-Robots-Tag:noindex
X-PUBLISHED-TTL:PT1H
BEGIN:VTIMEZONE
TZID:Europe/Istanbul
BEGIN:STANDARD
TZOFFSETFROM:+0300
TZOFFSETTO:+0300
TZNAME:+03
DTSTART:20230101T000000
END:STANDARD
END:VTIMEZONE
BEGIN:VEVENT
DTSTART;TZID=Europe/Istanbul:20241205T000000
DTEND;TZID=Europe/Istanbul:20241208T000000
DTSTAMP:20260421T163530
CREATED:20241114T070125Z
LAST-MODIFIED:20241114T070159Z
UID:84761-1733356800-1733616000@www.mgu.edu.tr
SUMMARY:3. Uluslararası Ankara Gitar Festivali & Yarışması
DESCRIPTION:3. Uluslararası Ankara Gitar Festivali & Yarışması Carlo Marchione Konseri\n\n3. Uluslararası Ankara Gitar Festivali & Yarışması Rebeca Olivera Konseri\n\n3. Uluslararası Ankara Gitar Festivali & Yarışması Gerhard Reichenbach Konseri\n\n3. Uluslararası Ankara Gitar Festivali & Yarışması Omán Kaminsky – Kağan Korad & Özberk Sarıgül Duo Konseri\n\n\n\n3. Uluslararası Ankara Gitar Festivali & Yarışması Hakkında Detaylı Bilgi İçin Tıklayınız...
URL:https://www.mgu.edu.tr/etkinlik/3-uluslararasi-ankara-gitar-festivali-yarismasi/
LOCATION:Ankara
CATEGORIES:Ankara Müzik ve Güzel Sanatlar Üniversitesi,MGÜ Gitar Topluluğu
ORGANIZER;CN="MG%C3%9C Gitar Toplulu%C4%9Fu":MAILTO:guitar@mgu.edu.tr
END:VEVENT
BEGIN:VEVENT
DTSTART;TZID=Europe/Istanbul:20241205T140000
DTEND;TZID=Europe/Istanbul:20241205T140000
DTSTAMP:20260421T163530
CREATED:20241203T122203Z
LAST-MODIFIED:20241204T055527Z
UID:86072-1733407200-1733407200@www.mgu.edu.tr
SUMMARY:3 Aralık Dünya Engelliler Günü Farkındalık Konseri
DESCRIPTION:
URL:https://www.mgu.edu.tr/etkinlik/3-aralik-dunya-engelliler-gunu-farkindalik-konseri/
LOCATION:Ankara Hacı Bayram Veli Üniversitesi Itri Yerleşkesi Mavi Salon\, Ankara
CATEGORIES:Ankara Müzik ve Güzel Sanatlar Üniversitesi
ATTACH;FMTTYPE=image/jpeg:https://www.mgu.edu.tr/wp-content/uploads/2024/12/3-Aralik-Dunya-Engelliler-Gunu-Farkindalik-Konseri-Afis-1.jpg
ORGANIZER;CN="Ankara M%C3%BCzik ve G%C3%BCzel Sanatlar %C3%9Cniversitesi":MAILTO:iletisim@mgu.edu.tr
END:VEVENT
END:VCALENDAR