BEGIN:VCALENDAR
VERSION:2.0
PRODID:-//Ankara Müzik ve Güzel Sanatlar Üniversitesi - ECPv6.15.20//NONSGML v1.0//EN
CALSCALE:GREGORIAN
METHOD:PUBLISH
X-ORIGINAL-URL:https://www.mgu.edu.tr
X-WR-CALDESC:Ankara Müzik ve Güzel Sanatlar Üniversitesi için etkinlikler
REFRESH-INTERVAL;VALUE=DURATION:PT1H
X-Robots-Tag:noindex
X-PUBLISHED-TTL:PT1H
BEGIN:VTIMEZONE
TZID:Europe/Istanbul
BEGIN:STANDARD
TZOFFSETFROM:+0300
TZOFFSETTO:+0300
TZNAME:+03
DTSTART:20230101T000000
END:STANDARD
END:VTIMEZONE
BEGIN:VEVENT
DTSTART;TZID=Europe/Istanbul:20241210T200000
DTEND;TZID=Europe/Istanbul:20241210T200000
DTSTAMP:20260421T163557
CREATED:20241209T073149Z
LAST-MODIFIED:20241209T073324Z
UID:86276-1733860800-1733860800@www.mgu.edu.tr
SUMMARY:20. Yüzyıldan İzler "Klasik Türk Müziği Konseri"
DESCRIPTION:
URL:https://www.mgu.edu.tr/etkinlik/20-yuzyildan-izler-klasik-turk-muzigi-konseri/
LOCATION:MUSİKİ MUALLİM MEKTEBİ MUHSİN ERTUĞRUL SAHNESİ Demirlibahçe Mah. Talatpaşa Bulv. No: 167 Mamak
CATEGORIES:Ankara Müzik ve Güzel Sanatlar Üniversitesi
ATTACH;FMTTYPE=image/jpeg:https://www.mgu.edu.tr/wp-content/uploads/2024/12/20.-Yuzyildan-Izler-Klasik-Turk-Muzigi-Konseri-Slide.jpeg
ORGANIZER;CN="Ankara M%C3%BCzik ve G%C3%BCzel Sanatlar %C3%9Cniversitesi":MAILTO:iletisim@mgu.edu.tr
END:VEVENT
END:VCALENDAR