BEGIN:VCALENDAR
VERSION:2.0
PRODID:-//Ankara Müzik ve Güzel Sanatlar Üniversitesi - ECPv6.15.20//NONSGML v1.0//EN
CALSCALE:GREGORIAN
METHOD:PUBLISH
X-ORIGINAL-URL:https://www.mgu.edu.tr
X-WR-CALDESC:Ankara Müzik ve Güzel Sanatlar Üniversitesi için etkinlikler
REFRESH-INTERVAL;VALUE=DURATION:PT1H
X-Robots-Tag:noindex
X-PUBLISHED-TTL:PT1H
BEGIN:VTIMEZONE
TZID:Europe/Istanbul
BEGIN:STANDARD
TZOFFSETFROM:+0300
TZOFFSETTO:+0300
TZNAME:+03
DTSTART:20230101T000000
END:STANDARD
END:VTIMEZONE
BEGIN:VEVENT
DTSTART;TZID=Europe/Istanbul:20241225T163000
DTEND;TZID=Europe/Istanbul:20241225T163000
DTSTAMP:20260421T162801
CREATED:20241220T115155Z
LAST-MODIFIED:20241220T115907Z
UID:86822-1735144200-1735144200@www.mgu.edu.tr
SUMMARY:Trio Capella İle Yeni Yıl Konseri
DESCRIPTION:
URL:https://www.mgu.edu.tr/etkinlik/trio-capella-ile-yeni-yil-konseri/
LOCATION:Müzik ve Sahne Sanatları Fakültesi 206 No’lu Dinleti Salonu\, Turan Güneş Bulvarı Yukarı Dikmen Mahallesi\, Neşet Ertaş Caddesi\, No:4 06550 Oran\, Çankaya\, Ankara\, 06550\, Turkey
CATEGORIES:Müzik ve Sahne Sanatları Fakültesi,Ses Eğitimi Bölümü
ATTACH;FMTTYPE=image/jpeg:https://www.mgu.edu.tr/wp-content/uploads/2024/12/Trio-Capella-Ile-Yeni-Yil-Konseri-Afis.jpg
ORGANIZER;CN="Ses E%C4%9Fitimi B%C3%B6l%C3%BCm%C3%BC":MAILTO:isfses@mgu.edu.tr
END:VEVENT
END:VCALENDAR