BEGIN:VCALENDAR
VERSION:2.0
PRODID:-//Ankara Müzik ve Güzel Sanatlar Üniversitesi - ECPv6.15.20//NONSGML v1.0//EN
CALSCALE:GREGORIAN
METHOD:PUBLISH
X-WR-CALNAME:Ankara Müzik ve Güzel Sanatlar Üniversitesi
X-ORIGINAL-URL:https://www.mgu.edu.tr
X-WR-CALDESC:Ankara Müzik ve Güzel Sanatlar Üniversitesi için etkinlikler
REFRESH-INTERVAL;VALUE=DURATION:PT1H
X-Robots-Tag:noindex
X-PUBLISHED-TTL:PT1H
BEGIN:VTIMEZONE
TZID:Europe/Istanbul
BEGIN:STANDARD
TZOFFSETFROM:+0300
TZOFFSETTO:+0300
TZNAME:+03
DTSTART:20230101T000000
END:STANDARD
END:VTIMEZONE
BEGIN:VEVENT
DTSTART;TZID=Europe/Istanbul:20241226T123000
DTEND;TZID=Europe/Istanbul:20241226T123000
DTSTAMP:20260421T163548
CREATED:20241225T101514Z
LAST-MODIFIED:20241225T101559Z
UID:87070-1735216200-1735216200@www.mgu.edu.tr
SUMMARY:Söyleşi "Afrika Müziği ve Toplumsal Etkileri"
DESCRIPTION:
URL:https://www.mgu.edu.tr/etkinlik/soylesi-afrika-muzigi-ve-toplumsal-etkileri/
LOCATION:Rektörlük Zemin Kat Toplantı Salonu\, Turan Güneş Bulvarı Yukarı Dikmen Mahallesi\, Neşet Ertaş Caddesi\, No:4 06550 Oran Çankaya/Ankara\, Ankara\, 06550\, Türkiye
CATEGORIES:Ankara Müzik ve Güzel Sanatlar Üniversitesi
ATTACH;FMTTYPE=image/jpeg:https://www.mgu.edu.tr/wp-content/uploads/2024/12/Afrika-Muzigi-ve-Toplumsal-Etkileri-Slide.jpg
ORGANIZER;CN="Ankara M%C3%BCzik ve G%C3%BCzel Sanatlar %C3%9Cniversitesi":MAILTO:iletisim@mgu.edu.tr
END:VEVENT
BEGIN:VEVENT
DTSTART;TZID=Europe/Istanbul:20241226T153000
DTEND;TZID=Europe/Istanbul:20241226T153000
DTSTAMP:20260421T163548
CREATED:20241220T115718Z
LAST-MODIFIED:20241220T115824Z
UID:86826-1735227000-1735227000@www.mgu.edu.tr
SUMMARY:Doç. Canan Özgür Şan Sınıfı Konseri
DESCRIPTION:
URL:https://www.mgu.edu.tr/etkinlik/doc-canan-ozgur-san-sinifi-konseri/
LOCATION:Müzik ve Sahne Sanatları Fakültesi -1. Kat Fuaye Alanı\, Turan Güneş Bulvarı Yukarı Dikmen Mahallesi\, Neşet Ertaş Caddesi\, No:4 06550 Oran\, Çankaya\, Ankara\, 06550\, Turkey
CATEGORIES:Müzik ve Sahne Sanatları Fakültesi,Ses Eğitimi Bölümü
ATTACH;FMTTYPE=image/jpeg:https://www.mgu.edu.tr/wp-content/uploads/2024/12/Doc.-Canan-Ozgur-San-Sinifi-Konseri-Afis.jpg
ORGANIZER;CN="Ses E%C4%9Fitimi B%C3%B6l%C3%BCm%C3%BC":MAILTO:isfses@mgu.edu.tr
END:VEVENT
END:VCALENDAR