BEGIN:VCALENDAR
VERSION:2.0
PRODID:-//Ankara Müzik ve Güzel Sanatlar Üniversitesi - ECPv6.15.20//NONSGML v1.0//EN
CALSCALE:GREGORIAN
METHOD:PUBLISH
X-WR-CALNAME:Ankara Müzik ve Güzel Sanatlar Üniversitesi
X-ORIGINAL-URL:https://www.mgu.edu.tr
X-WR-CALDESC:Ankara Müzik ve Güzel Sanatlar Üniversitesi için etkinlikler
REFRESH-INTERVAL;VALUE=DURATION:PT1H
X-Robots-Tag:noindex
X-PUBLISHED-TTL:PT1H
BEGIN:VTIMEZONE
TZID:Europe/Istanbul
BEGIN:STANDARD
TZOFFSETFROM:+0300
TZOFFSETTO:+0300
TZNAME:+03
DTSTART:20240101T000000
END:STANDARD
END:VTIMEZONE
BEGIN:VEVENT
DTSTART;TZID=Europe/Istanbul:20250402T200000
DTEND;TZID=Europe/Istanbul:20250402T200000
DTSTAMP:20260421T205656
CREATED:20250326T063357Z
LAST-MODIFIED:20250326T063436Z
UID:92836-1743624000-1743624000@www.mgu.edu.tr
SUMMARY:Farkında Mısınız? 2 Nisan Dünya Otizm Farkındalık Günü Bizim Orkestra Konseri
DESCRIPTION:
URL:https://www.mgu.edu.tr/etkinlik/farkinda-misiniz-2-nisan-dunya-otizm-farkindalik-gunu-bizim-orkestra-konseri/
LOCATION:Bankkart Mavi Salon\, CSO Ada Ankara Bankkart Mavi Salon\, Altındağ\, Ankara\, 06330
CATEGORIES:Ankara Müzik ve Güzel Sanatlar Üniversitesi
ATTACH;FMTTYPE=image/jpeg:https://www.mgu.edu.tr/wp-content/uploads/2025/03/Farkinda-Misiniz-2-Nisan-Dunya-Otizm-Farkindalik-Gunu-Bizim-Orkestra-Konseri-Afis.jpeg
ORGANIZER;CN="Ankara M%C3%BCzik ve G%C3%BCzel Sanatlar %C3%9Cniversitesi":MAILTO:iletisim@mgu.edu.tr
END:VEVENT
END:VCALENDAR