BEGIN:VCALENDAR
VERSION:2.0
PRODID:-//Ankara Müzik ve Güzel Sanatlar Üniversitesi - ECPv6.15.20//NONSGML v1.0//EN
CALSCALE:GREGORIAN
METHOD:PUBLISH
X-ORIGINAL-URL:https://www.mgu.edu.tr
X-WR-CALDESC:Ankara Müzik ve Güzel Sanatlar Üniversitesi için etkinlikler
REFRESH-INTERVAL;VALUE=DURATION:PT1H
X-Robots-Tag:noindex
X-PUBLISHED-TTL:PT1H
BEGIN:VTIMEZONE
TZID:Europe/Istanbul
BEGIN:STANDARD
TZOFFSETFROM:+0300
TZOFFSETTO:+0300
TZNAME:+03
DTSTART:20240101T000000
END:STANDARD
END:VTIMEZONE
BEGIN:VEVENT
DTSTART;TZID=Europe/Istanbul:20250604T080000
DTEND;TZID=Europe/Istanbul:20250604T080000
DTSTAMP:20260422T013457
CREATED:20250602T081901Z
LAST-MODIFIED:20250602T081958Z
UID:96108-1749024000-1749024000@www.mgu.edu.tr
SUMMARY:Müzik Eğitimi: İspanya Coğrafyasında Kısa Bir Genel Bakış
DESCRIPTION:
URL:https://www.mgu.edu.tr/etkinlik/muzik-egitimi-ispanya-cografyasinda-kisa-bir-genel-bakis/
LOCATION:Müzik ve Sahne Sanatları Fakültesi 206 No’lu Dinleti Salonu\, Turan Güneş Bulvarı Yukarı Dikmen Mahallesi\, Neşet Ertaş Caddesi\, No:4 06550 Oran\, Çankaya\, Ankara\, 06550\, Turkey
CATEGORIES:Ankara Müzik ve Güzel Sanatlar Üniversitesi,Kariyer Geliştirme Uygulama ve Araştırma Merkezi
ATTACH;FMTTYPE=image/jpeg:https://www.mgu.edu.tr/wp-content/uploads/2025/06/Muzik-Egitimi-Ispanya-Cografyasinda-Kisa-Bir-Genel-Bakis-Afis.jpg
ORGANIZER;CN="Kariyer Geli%C5%9Ftirme Uygulama ve Ara%C5%9Ft%C4%B1rma Merkezi":MAILTO:kariyermerkezi@mgu.edu.tr
END:VEVENT
END:VCALENDAR