BEGIN:VCALENDAR
VERSION:2.0
PRODID:-//Ankara Müzik ve Güzel Sanatlar Üniversitesi - ECPv6.15.20//NONSGML v1.0//EN
CALSCALE:GREGORIAN
METHOD:PUBLISH
X-WR-CALNAME:Ankara Müzik ve Güzel Sanatlar Üniversitesi
X-ORIGINAL-URL:https://www.mgu.edu.tr
X-WR-CALDESC:Ankara Müzik ve Güzel Sanatlar Üniversitesi için etkinlikler
REFRESH-INTERVAL;VALUE=DURATION:PT1H
X-Robots-Tag:noindex
X-PUBLISHED-TTL:PT1H
BEGIN:VTIMEZONE
TZID:Europe/Istanbul
BEGIN:STANDARD
TZOFFSETFROM:+0300
TZOFFSETTO:+0300
TZNAME:+03
DTSTART:20240101T000000
END:STANDARD
END:VTIMEZONE
BEGIN:VEVENT
DTSTART;TZID=Europe/Istanbul:20250626T000000
DTEND;TZID=Europe/Istanbul:20250629T000000
DTSTAMP:20260422T013405
CREATED:20250620T095215Z
LAST-MODIFIED:20250620T095256Z
UID:97228-1750896000-1751155200@www.mgu.edu.tr
SUMMARY:Sanatçı Çalışıyor Geleneksel Türk Sanatları Festivali
DESCRIPTION:  \nDetaylı Bilgi İçin Tıklayınız...
URL:https://www.mgu.edu.tr/etkinlik/sanatci-calisiyor-geleneksel-turk-sanatlari-festivali/
LOCATION:Ankara
CATEGORIES:Geleneksel Türk Sanatları Bölümü,Sanat ve Tasarım Fakültesi
ATTACH;FMTTYPE=image/jpeg:https://www.mgu.edu.tr/wp-content/uploads/2025/06/Sanatci-Calisiyor-Geleneksel-Turk-Sanatlari-Festivali-Afis.jpg
END:VEVENT
BEGIN:VEVENT
DTSTART;TZID=Europe/Istanbul:20250627T110000
DTEND;TZID=Europe/Istanbul:20250627T110000
DTSTAMP:20260422T013405
CREATED:20250626T121533Z
LAST-MODIFIED:20250626T121555Z
UID:98018-1751022000-1751022000@www.mgu.edu.tr
SUMMARY:“Proje Bin Ses” Uluslararası Sanat Temelli Projelerle Erişilebilirlik ve Katılım
DESCRIPTION:Detaylı Bilgi İçin Tıklatınız…
URL:https://www.mgu.edu.tr/etkinlik/proje-bin-ses-uluslararasi-sanat-temelli-projelerle-erisilebilirlik-ve-katilim/
LOCATION:Ankara
CATEGORIES:Ankara Müzik ve Güzel Sanatlar Üniversitesi
ATTACH;FMTTYPE=image/jpeg:https://www.mgu.edu.tr/wp-content/uploads/2025/06/Proje-Bin-Ses-Uluslararasi-Sanat-Temelli-Projelerle-Erisilebilirlik-ve-Katilim.jpg
ORGANIZER;CN="Ankara M%C3%BCzik ve G%C3%BCzel Sanatlar %C3%9Cniversitesi":MAILTO:iletisim@mgu.edu.tr
END:VEVENT
END:VCALENDAR