BEGIN:VCALENDAR
VERSION:2.0
PRODID:-//Ankara Müzik ve Güzel Sanatlar Üniversitesi - ECPv6.15.20//NONSGML v1.0//EN
CALSCALE:GREGORIAN
METHOD:PUBLISH
X-WR-CALNAME:Ankara Müzik ve Güzel Sanatlar Üniversitesi
X-ORIGINAL-URL:https://www.mgu.edu.tr
X-WR-CALDESC:Ankara Müzik ve Güzel Sanatlar Üniversitesi için etkinlikler
REFRESH-INTERVAL;VALUE=DURATION:PT1H
X-Robots-Tag:noindex
X-PUBLISHED-TTL:PT1H
BEGIN:VTIMEZONE
TZID:Europe/Istanbul
BEGIN:STANDARD
TZOFFSETFROM:+0300
TZOFFSETTO:+0300
TZNAME:+03
DTSTART:20240101T000000
END:STANDARD
END:VTIMEZONE
BEGIN:VEVENT
DTSTART;TZID=Europe/Istanbul:20251002T133000
DTEND;TZID=Europe/Istanbul:20251002T133000
DTSTAMP:20260422T040947
CREATED:20251001T112139Z
LAST-MODIFIED:20251001T112302Z
UID:104652-1759411800-1759411800@www.mgu.edu.tr
SUMMARY:TRT Ankara Radyosu Türk Halk Müziği Sanatçıları İle Söyleşi ve Dinleti
DESCRIPTION:
URL:https://www.mgu.edu.tr/etkinlik/trt-ankara-radyosu-turk-halk-muzigi-sanatcilari-ile-soylesi-ve-dinleti/
LOCATION:Müzik ve Sahne Sanatları Fakültesi Büyük Amfi\, Turan Güneş Bulvarı Yukarı Dikmen Mahallesi\, Neşet Ertaş Caddesi\, No:4 06550 Oran\, Çankaya\, Ankara\, 06550\, Turkey
CATEGORIES:Ankara Müzik ve Güzel Sanatlar Üniversitesi,Müzik ve Sahne Sanatları Fakültesi
ATTACH;FMTTYPE=image/jpeg:https://www.mgu.edu.tr/wp-content/uploads/2025/10/TRT-Ankara-Radyosu-Turk-Halk-Muzigi-Sanatcilari-Ile-Soylesi-ve-Dinleti-1.jpg
ORGANIZER;CN="M%C3%BCzik ve Sahne Sanatlar%C4%B1 Fak%C3%BCltesi":MAILTO:mssf@mgu.edu.tr
END:VEVENT
END:VCALENDAR