BEGIN:VCALENDAR
VERSION:2.0
PRODID:-//Ankara Müzik ve Güzel Sanatlar Üniversitesi - ECPv6.15.20//NONSGML v1.0//EN
CALSCALE:GREGORIAN
METHOD:PUBLISH
X-WR-CALNAME:Ankara Müzik ve Güzel Sanatlar Üniversitesi
X-ORIGINAL-URL:https://www.mgu.edu.tr
X-WR-CALDESC:Ankara Müzik ve Güzel Sanatlar Üniversitesi için etkinlikler
REFRESH-INTERVAL;VALUE=DURATION:PT1H
X-Robots-Tag:noindex
X-PUBLISHED-TTL:PT1H
BEGIN:VTIMEZONE
TZID:Europe/Istanbul
BEGIN:STANDARD
TZOFFSETFROM:+0300
TZOFFSETTO:+0300
TZNAME:+03
DTSTART:20240101T000000
END:STANDARD
END:VTIMEZONE
BEGIN:VEVENT
DTSTART;TZID=Europe/Istanbul:20251021T110000
DTEND;TZID=Europe/Istanbul:20251021T110000
DTSTAMP:20260422T055742
CREATED:20251020T061211Z
LAST-MODIFIED:20251020T062323Z
UID:106302-1761044400-1761044400@www.mgu.edu.tr
SUMMARY:Ankara Müzik ve Güzel Sanatlar Üniversitesi 2025-2026 Akademik Yılı Açılış Töreni
DESCRIPTION: TARİH VE SAAT \n21 Ekim 2025 | 11.00 \nYER  \nMüzik ve Sahne Sanatları Fakültesi -1 Büyük Amfi \nPROGRAM AKIŞI \nVideo Klip Gösterimi \n“Can Filistin” \nAçılış Konuşması \nRektör Prof. Dr. Erhan ÖZDEN \nAçılış Dersi \n“7 Ekim Sonrası Ortadoğu” \nProf. Dr. Murat YEŞİLTAŞ \nAnkara Sosyal Bilimler Üniversitesi \nSiyasal Bilimler Fakültesi Uluslararası İlişkiler Bölümü \n\nCanlı Performans \nSaat 12.00’de Yunus Emre Sevgi Meydanında \n“Can Filistin” bestesinin ilk seslendirilişi gerçekleştirilecektir.
URL:https://www.mgu.edu.tr/etkinlik/ankara-muzik-ve-guzel-sanatlar-universitesi-2025-2026-akademik-yili-acilis-toreni/
LOCATION:Müzik ve Sahne Sanatları Fakültesi Büyük Amfi\, Turan Güneş Bulvarı Yukarı Dikmen Mahallesi\, Neşet Ertaş Caddesi\, No:4 06550 Oran\, Çankaya\, Ankara\, 06550\, Turkey
CATEGORIES:Ankara Müzik ve Güzel Sanatlar Üniversitesi
ATTACH;FMTTYPE=image/jpeg:https://www.mgu.edu.tr/wp-content/uploads/2025/10/Ankara-Muzik-ve-Guzel-Sanatlar-Universitesi-2025-2026-Akademik-Yili-Acilis-Toreni-Afis.jpg
ORGANIZER;CN="Ankara M%C3%BCzik ve G%C3%BCzel Sanatlar %C3%9Cniversitesi":MAILTO:iletisim@mgu.edu.tr
END:VEVENT
END:VCALENDAR