BEGIN:VCALENDAR
VERSION:2.0
PRODID:-//Ankara Müzik ve Güzel Sanatlar Üniversitesi - ECPv6.15.20//NONSGML v1.0//EN
CALSCALE:GREGORIAN
METHOD:PUBLISH
X-WR-CALNAME:Ankara Müzik ve Güzel Sanatlar Üniversitesi
X-ORIGINAL-URL:https://www.mgu.edu.tr
X-WR-CALDESC:Ankara Müzik ve Güzel Sanatlar Üniversitesi için etkinlikler
REFRESH-INTERVAL;VALUE=DURATION:PT1H
X-Robots-Tag:noindex
X-PUBLISHED-TTL:PT1H
BEGIN:VTIMEZONE
TZID:Europe/Istanbul
BEGIN:STANDARD
TZOFFSETFROM:+0300
TZOFFSETTO:+0300
TZNAME:+03
DTSTART:20240101T000000
END:STANDARD
END:VTIMEZONE
BEGIN:VEVENT
DTSTART;TZID=Europe/Istanbul:20251022T200000
DTEND;TZID=Europe/Istanbul:20251022T200000
DTSTAMP:20260422T053328
CREATED:20251020T061806Z
LAST-MODIFIED:20251020T062150Z
UID:106307-1761163200-1761163200@www.mgu.edu.tr
SUMMARY:Türk - Macar Dostluk Konseri
DESCRIPTION:TARİH / DATE \n22 Ekim 2025  – 20.00 / October 22\, 2025 –  8 pm  \nYER / VENUE \nAnkara Resim ve Heykel Müzesi – Türk Ocağı Salonu \nAnkara Art and Sculpture Museum – Türk Ocağı Hall \n\nİLETİŞİM / CONTACT \nLCV/RSVP: 0312 486 03 86    Dahili/Ext: 1609    E-posta/Email: iletisim@mgu.edu.tr \n\n  \n\n\nKonser davetiyelidir. 21 Ekim 2025 saat 17.00′ ye kadar rezervasyon yapılması rica olunur. \nThe concert is by invitation only. Reservation must be made by 5 pm on October 21\, 2025.
URL:https://www.mgu.edu.tr/etkinlik/turk-macar-dostluk-konseri/
LOCATION:Ankara Resim ve Heykel Müzesi – Türk Ocağı Salonu\, Hacettepe\, Türkocağı Sk. Resim Ve Heykel Müzesi\, 06230 Altındağ/Ankara\, Ankara\, Turkey
CATEGORIES:Ankara Müzik ve Güzel Sanatlar Üniversitesi
ATTACH;FMTTYPE=image/jpeg:https://www.mgu.edu.tr/wp-content/uploads/2025/10/Turk-Macar-Dostluk-Konseri-Afis.jpg
ORGANIZER;CN="Ankara M%C3%BCzik ve G%C3%BCzel Sanatlar %C3%9Cniversitesi":MAILTO:iletisim@mgu.edu.tr
END:VEVENT
END:VCALENDAR