BEGIN:VCALENDAR
VERSION:2.0
PRODID:-//Ankara Müzik ve Güzel Sanatlar Üniversitesi - ECPv6.15.20//NONSGML v1.0//EN
CALSCALE:GREGORIAN
METHOD:PUBLISH
X-ORIGINAL-URL:https://www.mgu.edu.tr
X-WR-CALDESC:Ankara Müzik ve Güzel Sanatlar Üniversitesi için etkinlikler
REFRESH-INTERVAL;VALUE=DURATION:PT1H
X-Robots-Tag:noindex
X-PUBLISHED-TTL:PT1H
BEGIN:VTIMEZONE
TZID:Europe/Istanbul
BEGIN:STANDARD
TZOFFSETFROM:+0300
TZOFFSETTO:+0300
TZNAME:+03
DTSTART:20240101T000000
END:STANDARD
END:VTIMEZONE
BEGIN:VEVENT
DTSTART;VALUE=DATE:20251203
DTEND;VALUE=DATE:20251206
DTSTAMP:20260422T082205
CREATED:20251203T141038Z
LAST-MODIFIED:20251203T141138Z
UID:110130-1764720000-1764979199@www.mgu.edu.tr
SUMMARY:"Ustalarla Buluşma" Geleneksel Türk Sanatları Festivali
DESCRIPTION:Detaylı Bilgi İçin Tıklayınız...
URL:https://www.mgu.edu.tr/etkinlik/ustalarla-bulusma-geleneksel-turk-sanatlari-festivali/
LOCATION:Ankara Müzik ve Güzel Sanatlar Üniversitesi\, Turan Güneş Bulvarı Yukarı Dikmen Mahallesi\, Neşet Ertaş Caddesi\, No: 4\, Ankara\, Ankara\, 06550\, Turkey
CATEGORIES:Ankara Müzik ve Güzel Sanatlar Üniversitesi,Geleneksel Türk Sanatları Bölümü,MGÜ Sanat Galerisi,Sanat ve Tasarım Fakültesi
ATTACH;FMTTYPE=image/jpeg:https://www.mgu.edu.tr/wp-content/uploads/2025/12/Ustalarla-Bulusma-Geleneksel-Turk-Sanatlari-Festivali-Afis.jpg
END:VEVENT
BEGIN:VEVENT
DTSTART;VALUE=DATE:20251204
DTEND;VALUE=DATE:20251208
DTSTAMP:20260422T082205
CREATED:20251201T104939Z
LAST-MODIFIED:20251201T105656Z
UID:109860-1764806400-1765151999@www.mgu.edu.tr
SUMMARY:4. Uluslararası Ankara Gitar Festivali & Yarışması
DESCRIPTION:Detaylı Bilgi İçin Tıklayınız...
URL:https://www.mgu.edu.tr/etkinlik/4-uluslararasi-ankara-gitar-festivali-yarismasi/
LOCATION:Ankara
CATEGORIES:MGÜ Gitar Topluluğu
ATTACH;FMTTYPE=image/jpeg:https://www.mgu.edu.tr/wp-content/uploads/2025/11/4.-Uluslararasi-Ankara-Gitar-Festivali-Yarismasi-Turkce-Afis.jpg
ORGANIZER;CN="MG%C3%9C Gitar Toplulu%C4%9Fu":MAILTO:guitar@mgu.edu.tr
END:VEVENT
END:VCALENDAR