BEGIN:VCALENDAR
VERSION:2.0
PRODID:-//Ankara Müzik ve Güzel Sanatlar Üniversitesi - ECPv6.15.20//NONSGML v1.0//EN
CALSCALE:GREGORIAN
METHOD:PUBLISH
X-WR-CALNAME:Ankara Müzik ve Güzel Sanatlar Üniversitesi
X-ORIGINAL-URL:https://www.mgu.edu.tr
X-WR-CALDESC:Ankara Müzik ve Güzel Sanatlar Üniversitesi için etkinlikler
REFRESH-INTERVAL;VALUE=DURATION:PT1H
X-Robots-Tag:noindex
X-PUBLISHED-TTL:PT1H
BEGIN:VTIMEZONE
TZID:Europe/Istanbul
BEGIN:STANDARD
TZOFFSETFROM:+0300
TZOFFSETTO:+0300
TZNAME:+03
DTSTART:20240101T000000
END:STANDARD
END:VTIMEZONE
BEGIN:VEVENT
DTSTART;TZID=Europe/Istanbul:20251208T120000
DTEND;TZID=Europe/Istanbul:20251208T120000
DTSTAMP:20260422T081931
CREATED:20251201T105611Z
LAST-MODIFIED:20251201T105721Z
UID:109865-1765195200-1765195200@www.mgu.edu.tr
SUMMARY:“15 Aralık Dünya Türk Dili Ailesi Günü” Özel Müzik Dinletisi
DESCRIPTION:Detaylı Bilgi İçin Tıklayınız...
URL:https://www.mgu.edu.tr/etkinlik/15-aralik-dunya-turk-dili-ailesi-gunu-ozel-muzik-dinletisi/
LOCATION:Ankara
CATEGORIES:Sağlık, Kültür ve Spor Daire Başkanlığı
ATTACH;FMTTYPE=image/jpeg:https://www.mgu.edu.tr/wp-content/uploads/2025/12/Dunya-Turk-Dili-Ailesi-Gunu-Ozel-Muzik-Dinletisi-Afis.jpg
END:VEVENT
END:VCALENDAR