BEGIN:VCALENDAR
VERSION:2.0
PRODID:-//Ankara Müzik ve Güzel Sanatlar Üniversitesi - ECPv6.15.20//NONSGML v1.0//EN
CALSCALE:GREGORIAN
METHOD:PUBLISH
X-ORIGINAL-URL:https://www.mgu.edu.tr
X-WR-CALDESC:Ankara Müzik ve Güzel Sanatlar Üniversitesi için etkinlikler
REFRESH-INTERVAL;VALUE=DURATION:PT1H
X-Robots-Tag:noindex
X-PUBLISHED-TTL:PT1H
BEGIN:VTIMEZONE
TZID:Europe/Istanbul
BEGIN:STANDARD
TZOFFSETFROM:+0300
TZOFFSETTO:+0300
TZNAME:+03
DTSTART:20240101T000000
END:STANDARD
END:VTIMEZONE
BEGIN:VEVENT
DTSTART;TZID=Europe/Istanbul:20251216T100000
DTEND;TZID=Europe/Istanbul:20251216T100000
DTSTAMP:20260422T082249
CREATED:20251215T080037Z
LAST-MODIFIED:20251215T080058Z
UID:110920-1765879200-1765879200@www.mgu.edu.tr
SUMMARY:"Türk Diline Hizmet Ödülleri" Takdim Töreni
DESCRIPTION:m
URL:https://www.mgu.edu.tr/etkinlik/turk-diline-hizmet-odulleri-takdim-toreni/
LOCATION:Ankara
CATEGORIES:Ankara Müzik ve Güzel Sanatlar Üniversitesi,Sağlık, Kültür ve Spor Daire Başkanlığı
ATTACH;FMTTYPE=image/jpeg:https://www.mgu.edu.tr/wp-content/uploads/2025/12/Turk-Diline-Hizmet-Odulleri-Takdim-Toreni-Afis.jpg
END:VEVENT
BEGIN:VEVENT
DTSTART;TZID=Europe/Istanbul:20251216T123000
DTEND;TZID=Europe/Istanbul:20251216T123000
DTSTAMP:20260422T082249
CREATED:20251215T083739Z
LAST-MODIFIED:20251215T083751Z
UID:110934-1765888200-1765888200@www.mgu.edu.tr
SUMMARY:Viyolonsel Konseri
DESCRIPTION:Detaylı Bilgi İçin Tıklayınız...
URL:https://www.mgu.edu.tr/etkinlik/viyolonsel-konseri/
LOCATION:MGÜ Sanat Galerisi\, Turan Güneş Bulvarı Yukarı Dikmen Mahallesi\, Neşet Ertaş Caddesi\, No:4 06550 Oran Çankaya/Ankara\, Ankara\, Ankara\, 06550\, Türkiye
CATEGORIES:Ankara Müzik ve Güzel Sanatlar Üniversitesi,Müzik Bölümü,Müzik ve Sahne Sanatları Fakültesi
ATTACH;FMTTYPE=image/jpeg:https://www.mgu.edu.tr/wp-content/uploads/2025/12/Viyolonsel-Konseri-Afis.jpg
ORGANIZER;CN="M%C3%BCzik ve Sahne Sanatlar%C4%B1 Fak%C3%BCltesi":MAILTO:mssf@mgu.edu.tr
END:VEVENT
END:VCALENDAR