BEGIN:VCALENDAR
VERSION:2.0
PRODID:-//Ankara Müzik ve Güzel Sanatlar Üniversitesi - ECPv6.15.20//NONSGML v1.0//EN
CALSCALE:GREGORIAN
METHOD:PUBLISH
X-WR-CALNAME:Ankara Müzik ve Güzel Sanatlar Üniversitesi
X-ORIGINAL-URL:https://www.mgu.edu.tr
X-WR-CALDESC:Ankara Müzik ve Güzel Sanatlar Üniversitesi için etkinlikler
REFRESH-INTERVAL;VALUE=DURATION:PT1H
X-Robots-Tag:noindex
X-PUBLISHED-TTL:PT1H
BEGIN:VTIMEZONE
TZID:Europe/Istanbul
BEGIN:STANDARD
TZOFFSETFROM:+0300
TZOFFSETTO:+0300
TZNAME:+03
DTSTART:20240101T000000
END:STANDARD
END:VTIMEZONE
BEGIN:VEVENT
DTSTART;TZID=Europe/Istanbul:20251218T103000
DTEND;TZID=Europe/Istanbul:20251218T103000
DTSTAMP:20260422T082045
CREATED:20251216T140809Z
LAST-MODIFIED:20251216T140819Z
UID:111086-1766053800-1766053800@www.mgu.edu.tr
SUMMARY:Panel "İran Müzik Kültürü"
DESCRIPTION:Detaylı Bilgi İçin Tıklayınız...
URL:https://www.mgu.edu.tr/etkinlik/panel-iran-muzik-kulturu/
LOCATION:Müzik Bilimleri ve Teknolojileri Fakültesi 4.Kat 413 No’lu Amfi\, Turan Güneş Bulvarı Yukarı Dikmen Mahallesi\, Neşet Ertaş Caddesi\, No:4 06550 Oran\, Çankaya\, ANKARA\, 06550
CATEGORIES:Ankara Müzik ve Güzel Sanatlar Üniversitesi,Müzik Bilimleri ve Teknolojileri Fakültesi,Müzikoloji Bölümü
ATTACH;FMTTYPE=image/jpeg:https://www.mgu.edu.tr/wp-content/uploads/2025/12/Panel-Iran-Muzik-Kulturu-Slide.jpg
ORGANIZER;CN="M%C3%BCzikoloji B%C3%B6l%C3%BCm%C3%BC":MAILTO:muzikoloji@mgu.edu.tr
END:VEVENT
BEGIN:VEVENT
DTSTART;TZID=Europe/Istanbul:20251218T190000
DTEND;TZID=Europe/Istanbul:20251218T190000
DTSTAMP:20260422T082045
CREATED:20251212T113231Z
LAST-MODIFIED:20251212T113611Z
UID:110825-1766084400-1766084400@www.mgu.edu.tr
SUMMARY:Hz Mevlana'nın 752. Vuslat Yıldönümü Şeb-i Arûs Mevlevi Mukabelesi
DESCRIPTION:Detaylı Bilgi İçin Tıklayınız...
URL:https://www.mgu.edu.tr/etkinlik/hz-mevlananin-752-vuslat-yildonumu-seb-i-arus-mevlevi-mukabelesi/
LOCATION:Altındağ Belediyesi 29 Ekim Şair Baki Kültür Merkezi\, Güneşevler\, 49. Sk. No:5\, 06140\, Ankara\, Altındağ\, 06140\, Turkey
CATEGORIES:Ankara Müzik ve Güzel Sanatlar Üniversitesi,Sağlık, Kültür ve Spor Daire Başkanlığı
ATTACH;FMTTYPE=image/jpeg:https://www.mgu.edu.tr/wp-content/uploads/2025/12/Hz-Mevlananin-752.-Vuslat-Yildonumu-Seb-i-Arus-Mevlevi-Mukabelesi-Afis.jpg
ORGANIZER;CN="MG%C3%9C Klasik T%C3%BCrk M%C3%BCzi%C4%9Fi Toplulu%C4%9Fu":MAILTO:saglikkultur@mgu.edu.tr
END:VEVENT
END:VCALENDAR