BEGIN:VCALENDAR
VERSION:2.0
PRODID:-//Ankara Müzik ve Güzel Sanatlar Üniversitesi - ECPv6.15.20//NONSGML v1.0//EN
CALSCALE:GREGORIAN
METHOD:PUBLISH
X-ORIGINAL-URL:https://www.mgu.edu.tr
X-WR-CALDESC:Ankara Müzik ve Güzel Sanatlar Üniversitesi için etkinlikler
REFRESH-INTERVAL;VALUE=DURATION:PT1H
X-Robots-Tag:noindex
X-PUBLISHED-TTL:PT1H
BEGIN:VTIMEZONE
TZID:Europe/Istanbul
BEGIN:STANDARD
TZOFFSETFROM:+0300
TZOFFSETTO:+0300
TZNAME:+03
DTSTART:20240101T000000
END:STANDARD
END:VTIMEZONE
BEGIN:VEVENT
DTSTART;TZID=Europe/Istanbul:20251229T170000
DTEND;TZID=Europe/Istanbul:20251229T170000
DTSTAMP:20260422T082251
CREATED:20251215T075601Z
LAST-MODIFIED:20251215T080157Z
UID:110916-1767027600-1767027600@www.mgu.edu.tr
SUMMARY:Piyano - Şan Konseri "Barok-Klasik ve Romantik Dönemden Aryalar"
DESCRIPTION:gdlr_core_button button-text=”Detaylı Bilgi İçin Tıklayınız…” button-link=”https://www.mgu.edu.tr/piyano-san-konseri-barok-klasik-ve-romantik-donemden-aryalar/” button-link-target=”_blank” margin-right=”20px” ]
URL:https://www.mgu.edu.tr/etkinlik/piyano-san-konseri-barok-klasik-ve-romantik-donemden-aryalar/
LOCATION:Ankara Müzik ve Güzel Sanatlar Üniversitesi Balo Salonu\, Turan Güneş Bulvarı Yukarı Dikmen Mahallesi\, Neşet Ertaş Caddesi\, No:4 06550 Oran\, Çankaya\, Ankara\, 06550\, Turkey
CATEGORIES:Ankara Müzik ve Güzel Sanatlar Üniversitesi,Müzik ve Sahne Sanatları Fakültesi,Sahne Sanatları Bölümü
ATTACH;FMTTYPE=image/jpeg:https://www.mgu.edu.tr/wp-content/uploads/2025/12/Barok-Klasik-ve-Romantik-Donemden-Aryalar-Piyano-San-Konseri-Afis.jpg
ORGANIZER;CN="M%C3%BCzik ve Sahne Sanatlar%C4%B1 Fak%C3%BCltesi":MAILTO:mssf@mgu.edu.tr
END:VEVENT
END:VCALENDAR