BEGIN:VCALENDAR
VERSION:2.0
PRODID:-//Ankara Müzik ve Güzel Sanatlar Üniversitesi - ECPv6.15.20//NONSGML v1.0//EN
CALSCALE:GREGORIAN
METHOD:PUBLISH
X-ORIGINAL-URL:https://www.mgu.edu.tr
X-WR-CALDESC:Ankara Müzik ve Güzel Sanatlar Üniversitesi için etkinlikler
REFRESH-INTERVAL;VALUE=DURATION:PT1H
X-Robots-Tag:noindex
X-PUBLISHED-TTL:PT1H
BEGIN:VTIMEZONE
TZID:Europe/Istanbul
BEGIN:STANDARD
TZOFFSETFROM:+0300
TZOFFSETTO:+0300
TZNAME:+03
DTSTART:20250101T000000
END:STANDARD
END:VTIMEZONE
BEGIN:VEVENT
DTSTART;TZID=Europe/Istanbul:20260222T160000
DTEND;TZID=Europe/Istanbul:20260222T160000
DTSTAMP:20260422T113159
CREATED:20260220T111816Z
LAST-MODIFIED:20260224T113555Z
UID:116037-1771776000-1771776000@www.mgu.edu.tr
SUMMARY:Rektörümüz Prof. Dr. Erhan Özden\, Türk Tarih Kurumu Tarafından Külliye’de Düzenlenen Ramazan Kitap Günleri Kapsamında Okurlarıyla Buluşuyor
DESCRIPTION:Detaylı Bilgi İçin Tıklayınız...
URL:https://www.mgu.edu.tr/etkinlik/rektorumuz-prof-dr-erhan-ozden-turk-tarih-kurumu-tarafindan-kulliyede-duzenlenen-ramazan-kitap-gunleri-kapsaminda-okurlariyla-bulusuyor/
LOCATION:Cumhurbaşkanlığı Millet Kütüphanesi Sergi Salonu\, Gazi\, Cumhurbaşkanlığı Blv\,\, Yenimahalle\, Ankara\, 065560\, Turkey
CATEGORIES:Ankara Müzik ve Güzel Sanatlar Üniversitesi
ATTACH;FMTTYPE=image/jpeg:https://www.mgu.edu.tr/wp-content/uploads/2026/02/Rektorumuz-Prof.-Dr.-Erhan-Ozden-Turk-Tarih-Kurumu-Tarafindan-Kulliyede-Duzenlenen-Ramazan-Kitap-Gunleri-Kapsaminda-Okurlariyla-Bulusuyor-Slide.jpg
END:VEVENT
END:VCALENDAR