BEGIN:VCALENDAR
VERSION:2.0
PRODID:-//Ankara Müzik ve Güzel Sanatlar Üniversitesi - ECPv6.15.20//NONSGML v1.0//EN
CALSCALE:GREGORIAN
METHOD:PUBLISH
X-WR-CALNAME:Ankara Müzik ve Güzel Sanatlar Üniversitesi
X-ORIGINAL-URL:https://www.mgu.edu.tr
X-WR-CALDESC:Ankara Müzik ve Güzel Sanatlar Üniversitesi için etkinlikler
REFRESH-INTERVAL;VALUE=DURATION:PT1H
X-Robots-Tag:noindex
X-PUBLISHED-TTL:PT1H
BEGIN:VTIMEZONE
TZID:Europe/Istanbul
BEGIN:STANDARD
TZOFFSETFROM:+0300
TZOFFSETTO:+0300
TZNAME:+03
DTSTART:20250101T000000
END:STANDARD
END:VTIMEZONE
BEGIN:VEVENT
DTSTART;TZID=Europe/Istanbul:20260224T160000
DTEND;TZID=Europe/Istanbul:20260224T160000
DTSTAMP:20260422T112138
CREATED:20260217T112807Z
LAST-MODIFIED:20260224T113713Z
UID:116041-1771948800-1771948800@www.mgu.edu.tr
SUMMARY:Piyano-Şan Konseri "Barok-Klasik ve Romantik Dönemden Aryalar"
DESCRIPTION:Detaylı Bilgi İçin Tıklayınız...
URL:https://www.mgu.edu.tr/etkinlik/piyano-san-konseri-barok-klasik-ve-romantik-donemden-aryalar-2/
LOCATION:Sanat ve Tasarım Fakültesi 136 Nolu Dinleti Salonu\, Turan Güneş Bulvarı Yukarı Dikmen Mahallesi\, Neşet Ertaş Caddesi\, No: 4\, Çankaya\, Ankara\, 06550\, Turkey
CATEGORIES:Müzik ve Sahne Sanatları Fakültesi,Sahne Sanatları Bölümü
ATTACH;FMTTYPE=image/jpeg:https://www.mgu.edu.tr/wp-content/uploads/2026/02/Piyano-San-Konseri-Barok-Klasik-ve-Romantik-Donemden-Aryalar-Slide.jpg
ORGANIZER;CN="M%C3%BCzik ve Sahne Sanatlar%C4%B1 Fak%C3%BCltesi":MAILTO:mssf@mgu.edu.tr
END:VEVENT
END:VCALENDAR