BEGIN:VCALENDAR
VERSION:2.0
PRODID:-//Ankara Müzik ve Güzel Sanatlar Üniversitesi - ECPv6.15.20//NONSGML v1.0//EN
CALSCALE:GREGORIAN
METHOD:PUBLISH
X-WR-CALNAME:Ankara Müzik ve Güzel Sanatlar Üniversitesi
X-ORIGINAL-URL:https://www.mgu.edu.tr
X-WR-CALDESC:Ankara Müzik ve Güzel Sanatlar Üniversitesi için etkinlikler
REFRESH-INTERVAL;VALUE=DURATION:PT1H
X-Robots-Tag:noindex
X-PUBLISHED-TTL:PT1H
BEGIN:VTIMEZONE
TZID:Europe/Istanbul
BEGIN:STANDARD
TZOFFSETFROM:+0300
TZOFFSETTO:+0300
TZNAME:+03
DTSTART:20250101T000000
END:STANDARD
END:VTIMEZONE
BEGIN:VEVENT
DTSTART;TZID=Europe/Istanbul:20260420T123000
DTEND;TZID=Europe/Istanbul:20260420T123000
DTSTAMP:20260420T172241
CREATED:20260416T073718Z
LAST-MODIFIED:20260417T081318Z
UID:117410-1776688200-1776688200@www.mgu.edu.tr
SUMMARY:Etkileşimli Kolektif Doğaçlama Konseri
DESCRIPTION:Detaylı Bilgi için Tıklayınız...
URL:https://www.mgu.edu.tr/etkinlik/etkilesimli-kolektif-dogaclama-konseri/
LOCATION:Müzik ve Sahne Sanatları Fakültesi (Yeni Bina)  1. Kat 136 No’lu Salon\, Turan Güneş Bulvarı Yukarı Dikmen Mahallesi\, Neşet Ertaş Caddesi\, No: 4\, Çankaya\, Ankara\, 06550\, Turkey
CATEGORIES:Müzik ve Sahne Sanatları Fakültesi,Sahne Sanatları Bölümü
ORGANIZER;CN="Sahne Sanatlar%C4%B1 B%C3%B6l%C3%BCm%C3%BC":MAILTO:mssf@mgu.edu.tr
END:VEVENT
END:VCALENDAR