BEGIN:VCALENDAR
VERSION:2.0
PRODID:-//Ankara Müzik ve Güzel Sanatlar Üniversitesi - ECPv6.15.20//NONSGML v1.0//EN
CALSCALE:GREGORIAN
METHOD:PUBLISH
X-ORIGINAL-URL:https://www.mgu.edu.tr
X-WR-CALDESC:Ankara Müzik ve Güzel Sanatlar Üniversitesi için etkinlikler
REFRESH-INTERVAL;VALUE=DURATION:PT1H
X-Robots-Tag:noindex
X-PUBLISHED-TTL:PT1H
BEGIN:VTIMEZONE
TZID:Europe/Istanbul
BEGIN:STANDARD
TZOFFSETFROM:+0300
TZOFFSETTO:+0300
TZNAME:+03
DTSTART:20230101T000000
END:STANDARD
END:VTIMEZONE
BEGIN:VEVENT
DTSTART;TZID=Europe/Istanbul:20240315T100000
DTEND;TZID=Europe/Istanbul:20240315T100000
DTSTAMP:20260421T025712
CREATED:20240315T071117Z
LAST-MODIFIED:20240315T071505Z
UID:70273-1710496800-1710496800@www.mgu.edu.tr
SUMMARY:“Âşık Veysel” Müzik Yarışması Finali
DESCRIPTION:
URL:https://www.mgu.edu.tr/etkinlik/asik-veysel-muzik-yarismasi-finali/
LOCATION:Ankara Müzik ve Güzel Sanatlar Üniversitesi\, Turan Güneş Bulvarı Yukarı Dikmen Mahallesi\, Neşet Ertaş Caddesi\, No: 4\, Ankara\, Ankara\, 06550\, Turkey
CATEGORIES:Ankara Müzik ve Güzel Sanatlar Üniversitesi
ATTACH;FMTTYPE=image/jpeg:https://www.mgu.edu.tr/wp-content/uploads/2024/03/Asik-Veysel-Muzik-Yarismasi-Finali-Afis.jpg
ORGANIZER;CN="Ankara M%C3%BCzik ve G%C3%BCzel Sanatlar %C3%9Cniversitesi":MAILTO:iletisim@mgu.edu.tr
END:VEVENT
BEGIN:VEVENT
DTSTART;VALUE=DATE:20240320
DTEND;VALUE=DATE:20240321
DTSTAMP:20260421T025712
CREATED:20240319T133336Z
LAST-MODIFIED:20240319T133401Z
UID:70847-1710892800-1710979199@www.mgu.edu.tr
SUMMARY:Medya Müziği Besteciliği
DESCRIPTION:
URL:https://www.mgu.edu.tr/etkinlik/medya-muzigi-besteciligi/
LOCATION:İcra Sanatları Fakültesi 506 No’lu Dinleti Salonu\, Turan Güneş Bulvarı Yukarı Dikmen Mahallesi\, Neşet Ertaş Caddesi\, No:4 06550 Oran\, Çankaya\, ANKARA\, 06550\, Türkiye
CATEGORIES:Ankara Müzik ve Güzel Sanatlar Üniversitesi
ATTACH;FMTTYPE=image/jpeg:https://www.mgu.edu.tr/wp-content/uploads/2024/03/Medya-Muzigi-Besteciligi-Sinan-Ayyildiz-20.03.2024.jpg
ORGANIZER;CN="Ankara M%C3%BCzik ve G%C3%BCzel Sanatlar %C3%9Cniversitesi":MAILTO:iletisim@mgu.edu.tr
END:VEVENT
BEGIN:VEVENT
DTSTART;VALUE=DATE:20240321
DTEND;VALUE=DATE:20240322
DTSTAMP:20260421T025712
CREATED:20240319T123445Z
LAST-MODIFIED:20240319T123633Z
UID:70820-1710979200-1711065599@www.mgu.edu.tr
SUMMARY:Renklerin İçindeki Işık: "Âşık Veysel"
DESCRIPTION:
URL:https://www.mgu.edu.tr/etkinlik/renklerin-icindeki-isik-asik-veysel/
LOCATION:MGÜ Sanat Galerisi\, Turan Güneş Bulvarı Yukarı Dikmen Mahallesi\, Neşet Ertaş Caddesi\, No:4 06550 Oran Çankaya/Ankara\, Ankara\, Ankara\, 06550\, Türkiye
CATEGORIES:Ankara Müzik ve Güzel Sanatlar Üniversitesi
ATTACH;FMTTYPE=image/jpeg:https://www.mgu.edu.tr/wp-content/uploads/2024/03/Renklerin-Icindeki-Isik-Asik-Veysel.jpg
ORGANIZER;CN="Ankara M%C3%BCzik ve G%C3%BCzel Sanatlar %C3%9Cniversitesi":MAILTO:iletisim@mgu.edu.tr
END:VEVENT
BEGIN:VEVENT
DTSTART;VALUE=DATE:20240321
DTEND;VALUE=DATE:20240324
DTSTAMP:20260421T025712
CREATED:20240112T062106Z
LAST-MODIFIED:20240315T071205Z
UID:66661-1710979200-1711238399@www.mgu.edu.tr
SUMMARY:1. Uluslararası Bilim\, Sanat ve Toplumda Âşıklık Geleneği Sempozyumu "Âşık Veysel"
DESCRIPTION:Ankara Müzik ve Güzel Sanatlar Üniversitesi’nin ev sahipliğinde 22-23 Mart 2024 tarihlerinde I. Uluslararası Bilim\, Sanat ve Toplumda Âşıklık Geleneği Sempozyumu Âşık Veysel’e ithafen düzenlenecektir. Sempozyum yüz yüze ve çevrim içi şekilde gerçekleştirilecektir.\nBu yıl birincisini düzenleyeceğimiz sempozyuma katılımınızdan dolayı onur duyarız.\nSaygılarımızla…\n\nAnkara Müzik ve Güzel Sanatlar Üniversitesi\, Yunus Emre Enstitüsü ve Türkiye Beyazay Derneği Adına\nSempozyum Düzenleme Kurulu\n\nSempozyum Hakkında Detaylı Bilgi İçin Tıklayınız...
URL:https://www.mgu.edu.tr/etkinlik/1-uluslararasi-bilim-sanat-ve-toplumda-asiklik-gelenegi-sempozyumu-asik-veysel/
LOCATION:Ankara Müzik ve Güzel Sanatlar Üniversitesi\, Turan Güneş Bulvarı Yukarı Dikmen Mahallesi\, Neşet Ertaş Caddesi\, No: 4\, Ankara\, Ankara\, 06550\, Turkey
CATEGORIES:Ankara Müzik ve Güzel Sanatlar Üniversitesi
ORGANIZER;CN="Ankara M%C3%BCzik ve G%C3%BCzel Sanatlar %C3%9Cniversitesi":MAILTO:iletisim@mgu.edu.tr
END:VEVENT
BEGIN:VEVENT
DTSTART;VALUE=DATE:20240321
DTEND;VALUE=DATE:20240324
DTSTAMP:20260421T025712
CREATED:20240315T070751Z
LAST-MODIFIED:20240315T071422Z
UID:70271-1710979200-1711238399@www.mgu.edu.tr
SUMMARY:1. Uluslararası Bilim\, Sanat ve Toplumda Âşıklık Geleneği Sempozyumu “Âşık Veysel”
DESCRIPTION:
URL:https://www.mgu.edu.tr/etkinlik/1-uluslararasi-bilim-sanat-ve-toplumda-asiklik-gelenegi-sempozyumu-asik-veysel-2/
LOCATION:Ankara Müzik ve Güzel Sanatlar Üniversitesi\, Turan Güneş Bulvarı Yukarı Dikmen Mahallesi\, Neşet Ertaş Caddesi\, No: 4\, Ankara\, Ankara\, 06550\, Turkey
CATEGORIES:Ankara Müzik ve Güzel Sanatlar Üniversitesi
ATTACH;FMTTYPE=image/jpeg:https://www.mgu.edu.tr/wp-content/uploads/2024/03/Asik-Veysel-1.-Uluslararasi-Bilim-Sanat-ve-Toplumda-Asiklik-Gelenegi-Sempozyumu-Afis.jpg
ORGANIZER;CN="Ankara M%C3%BCzik ve G%C3%BCzel Sanatlar %C3%9Cniversitesi":MAILTO:iletisim@mgu.edu.tr
END:VEVENT
BEGIN:VEVENT
DTSTART;TZID=Europe/Istanbul:20240321T143000
DTEND;TZID=Europe/Istanbul:20240321T160000
DTSTAMP:20260421T025712
CREATED:20240315T071848Z
LAST-MODIFIED:20240315T072110Z
UID:70275-1711031400-1711036800@www.mgu.edu.tr
SUMMARY:Panel “Tükenmez Hazine Âşık Veysel”
DESCRIPTION:
URL:https://www.mgu.edu.tr/etkinlik/panel-tukenmez-hazine-asik-veysel/
LOCATION:Ankara Müzik ve Güzel Sanatlar Üniversitesi\, Turan Güneş Bulvarı Yukarı Dikmen Mahallesi\, Neşet Ertaş Caddesi\, No: 4\, Ankara\, Ankara\, 06550\, Turkey
CATEGORIES:Ankara Müzik ve Güzel Sanatlar Üniversitesi
ATTACH;FMTTYPE=image/jpeg:https://www.mgu.edu.tr/wp-content/uploads/2024/03/1.-Uluslararasi-Bilim-Sanat-ve-Toplumda-Asiklik-Gelenegi-Sempozyumu-Panel-Tukenmez-Hazine-Asik-Veysel-Afis.jpeg
ORGANIZER;CN="Ankara M%C3%BCzik ve G%C3%BCzel Sanatlar %C3%9Cniversitesi":MAILTO:iletisim@mgu.edu.tr
END:VEVENT
BEGIN:VEVENT
DTSTART;TZID=Europe/Istanbul:20240321T210000
DTEND;TZID=Europe/Istanbul:20240321T210000
DTSTAMP:20260421T025712
CREATED:20240315T072406Z
LAST-MODIFIED:20240315T073320Z
UID:70277-1711054800-1711054800@www.mgu.edu.tr
SUMMARY:Ben Giderim Adım Kalır
DESCRIPTION:
URL:https://www.mgu.edu.tr/etkinlik/ben-giderim-adim-kalir/
LOCATION:MEB Şura Salonu\, Milli Eğitim Bakanlığı Beşevler Kampüsü Emniyet Gazeteci Yazar Muammer Yaşar Bostancı Sk. 06560 Yenimahalle\, Ankara\, Türkiye
CATEGORIES:Ankara Müzik ve Güzel Sanatlar Üniversitesi
ATTACH;FMTTYPE=image/jpeg:https://www.mgu.edu.tr/wp-content/uploads/2024/03/Ben-Giderim-Adim-Kalir-Afis.jpeg
ORGANIZER;CN="Ankara M%C3%BCzik ve G%C3%BCzel Sanatlar %C3%9Cniversitesi":MAILTO:iletisim@mgu.edu.tr
END:VEVENT
BEGIN:VEVENT
DTSTART;TZID=Europe/Istanbul:20240322T133000
DTEND;TZID=Europe/Istanbul:20240322T150000
DTSTAMP:20260421T025712
CREATED:20240315T072841Z
LAST-MODIFIED:20240315T072849Z
UID:70279-1711114200-1711119600@www.mgu.edu.tr
SUMMARY:Panel “Âşıklık Geleneği ve Âşık Veysel”
DESCRIPTION:
URL:https://www.mgu.edu.tr/etkinlik/panel-asiklik-gelenegi-ve-asik-veysel/
LOCATION:Ankara Müzik ve Güzel Sanatlar Üniversitesi\, Turan Güneş Bulvarı Yukarı Dikmen Mahallesi\, Neşet Ertaş Caddesi\, No: 4\, Ankara\, Ankara\, 06550\, Turkey
CATEGORIES:Ankara Müzik ve Güzel Sanatlar Üniversitesi
ATTACH;FMTTYPE=image/jpeg:https://www.mgu.edu.tr/wp-content/uploads/2024/03/Asik-Veysel-1.-Uluslararasi-Bilim-Sanat-ve-Toplumda-Asiklik-Gelenegi-Sempozyumu-Panel-Asiklik-Gelenegi-ve-Asik-Veysel-Afis.jpg
ORGANIZER;CN="Ankara M%C3%BCzik ve G%C3%BCzel Sanatlar %C3%9Cniversitesi":MAILTO:iletisim@mgu.edu.tr
END:VEVENT
END:VCALENDAR