BEGIN:VCALENDAR
VERSION:2.0
PRODID:-//Ankara Müzik ve Güzel Sanatlar Üniversitesi - ECPv6.15.20//NONSGML v1.0//EN
CALSCALE:GREGORIAN
METHOD:PUBLISH
X-ORIGINAL-URL:https://www.mgu.edu.tr
X-WR-CALDESC:Ankara Müzik ve Güzel Sanatlar Üniversitesi için etkinlikler
REFRESH-INTERVAL;VALUE=DURATION:PT1H
X-Robots-Tag:noindex
X-PUBLISHED-TTL:PT1H
BEGIN:VTIMEZONE
TZID:Europe/Istanbul
BEGIN:STANDARD
TZOFFSETFROM:+0300
TZOFFSETTO:+0300
TZNAME:+03
DTSTART:20230101T000000
END:STANDARD
END:VTIMEZONE
BEGIN:VEVENT
DTSTART;VALUE=DATE:20240401
DTEND;VALUE=DATE:20240402
DTSTAMP:20260421T043703
CREATED:20240329T102305Z
LAST-MODIFIED:20240417T050343Z
UID:71339-1711929600-1712015999@www.mgu.edu.tr
SUMMARY:Kültürel Demokrasi ve Müzik
DESCRIPTION:
URL:https://www.mgu.edu.tr/etkinlik/kulturel-demokrasi-ve-muzik/
LOCATION:Rektörlük Konferans Salonu\, Turan Güneş Bulvarı Yukarı Dikmen Mahallesi\, Neşet Ertaş Caddesi\, No:4 06550 Oran\, Çankaya\, ANKARA\, 06550\, Türkiye
CATEGORIES:Ankara Müzik ve Güzel Sanatlar Üniversitesi
ATTACH;FMTTYPE=image/jpeg:https://www.mgu.edu.tr/wp-content/uploads/2024/03/Kulturel-Demokrasi-ve-Muzik.jpeg
END:VEVENT
BEGIN:VEVENT
DTSTART;VALUE=DATE:20240417
DTEND;VALUE=DATE:20240418
DTSTAMP:20260421T043703
CREATED:20240417T050855Z
LAST-MODIFIED:20240417T050855Z
UID:71785-1713312000-1713398399@www.mgu.edu.tr
SUMMARY:Barış İçin Küçük Bir Şey Yap Hibrit İyi Niyet Performans Bienali
DESCRIPTION:
URL:https://www.mgu.edu.tr/etkinlik/baris-icin-kucuk-bir-sey-yap-hibrit-iyi-niyet-performans-bienali/
LOCATION:MGÜ Sanat Galerisi\, Turan Güneş Bulvarı Yukarı Dikmen Mahallesi\, Neşet Ertaş Caddesi\, No:4 06550 Oran Çankaya/Ankara\, Ankara\, Ankara\, 06550\, Türkiye
CATEGORIES:Sanat ve Tasarım Fakültesi
ATTACH;FMTTYPE=image/jpeg:https://www.mgu.edu.tr/wp-content/uploads/2024/04/Baris-Icin-Kucuk-Bir-Sey-Yap-Hibrit-Iyi-Niyet-Performans-Bienali.jpeg
ORGANIZER;CN="Sanat ve Tasar%C4%B1m Fak%C3%BCltesi":MAILTO:iletisim@mgu.edu.tr
END:VEVENT
BEGIN:VEVENT
DTSTART;VALUE=DATE:20240417
DTEND;VALUE=DATE:20240418
DTSTAMP:20260421T043703
CREATED:20240417T074246Z
LAST-MODIFIED:20240417T074310Z
UID:71939-1713312000-1713398399@www.mgu.edu.tr
SUMMARY:"Barış İçin Küçük Bir Şey Yap" Hibrit İyi Niyet Performans Bienali Karma Sergisi
DESCRIPTION:
URL:https://www.mgu.edu.tr/etkinlik/baris-icin-kucuk-bir-sey-yap-hibrit-iyi-niyet-performans-bienali-karma-sergisi/
LOCATION:MGÜ Sanat Galerisi\, Turan Güneş Bulvarı Yukarı Dikmen Mahallesi\, Neşet Ertaş Caddesi\, No:4 06550 Oran Çankaya/Ankara\, Ankara\, Ankara\, 06550\, Türkiye
CATEGORIES:Sanat ve Tasarım Fakültesi
ATTACH;FMTTYPE=image/jpeg:https://www.mgu.edu.tr/wp-content/uploads/2024/04/Baris-Icin-Kucuk-Bir-Sey-Yap-Hibrit-Iyi-Niyet-Performans-Bienali-Afis-2.jpg
ORGANIZER;CN="Sanat ve Tasar%C4%B1m Fak%C3%BCltesi":MAILTO:iletisim@mgu.edu.tr
END:VEVENT
BEGIN:VEVENT
DTSTART;VALUE=DATE:20240418
DTEND;VALUE=DATE:20240419
DTSTAMP:20260421T043703
CREATED:20240417T074522Z
LAST-MODIFIED:20240417T074522Z
UID:71942-1713398400-1713484799@www.mgu.edu.tr
SUMMARY:“Barış İçin Küçük Bir Şey Yap” Hibrit İyi Niyet Performans Bienali Sanat Çalıştayı
DESCRIPTION:
URL:https://www.mgu.edu.tr/etkinlik/baris-icin-kucuk-bir-sey-yap-hibrit-iyi-niyet-performans-bienali-sanat-calistayi/
LOCATION:Ankara Müzik ve Güzel Sanatlar Üniversitesi\, Turan Güneş Bulvarı Yukarı Dikmen Mahallesi\, Neşet Ertaş Caddesi\, No: 4\, Ankara\, Ankara\, 06550\, Turkey
CATEGORIES:Sanat ve Tasarım Fakültesi
ATTACH;FMTTYPE=image/jpeg:https://www.mgu.edu.tr/wp-content/uploads/2024/04/Baris-Icin-Kucuk-Bir-Sey-Yap-Hibrit-Iyi-Niyet-Performans-Bienali-Afis-3.jpg
ORGANIZER;CN="Sanat ve Tasar%C4%B1m Fak%C3%BCltesi":MAILTO:iletisim@mgu.edu.tr
END:VEVENT
BEGIN:VEVENT
DTSTART;VALUE=DATE:20240424
DTEND;VALUE=DATE:20240425
DTSTAMP:20260421T043703
CREATED:20240417T074739Z
LAST-MODIFIED:20240417T075054Z
UID:71946-1713916800-1714003199@www.mgu.edu.tr
SUMMARY:“Barış İçin Küçük Bir Şey Yap” Hibrit İyi Niyet Performans Bienali Konser Etkinliği
DESCRIPTION:
URL:https://www.mgu.edu.tr/etkinlik/baris-icin-kucuk-bir-sey-yap-hibrit-iyi-niyet-performans-bienali-konser-etkinligi/
LOCATION:Ankara Müzik ve Güzel Sanatlar Üniversitesi\, Turan Güneş Bulvarı Yukarı Dikmen Mahallesi\, Neşet Ertaş Caddesi\, No: 4\, Ankara\, Ankara\, 06550\, Turkey
CATEGORIES:Sanat ve Tasarım Fakültesi
ATTACH;FMTTYPE=image/jpeg:https://www.mgu.edu.tr/wp-content/uploads/2024/04/Baris-Icin-Kucuk-Bir-Sey-Yap-Hibrit-Iyi-Niyet-Performans-Bienali-Afis-4.jpg
ORGANIZER;CN="Sanat ve Tasar%C4%B1m Fak%C3%BCltesi":MAILTO:iletisim@mgu.edu.tr
END:VEVENT
BEGIN:VEVENT
DTSTART;VALUE=DATE:20240424
DTEND;VALUE=DATE:20240425
DTSTAMP:20260421T043703
CREATED:20240424T072120Z
LAST-MODIFIED:20240424T074751Z
UID:72247-1713916800-1714003199@www.mgu.edu.tr
SUMMARY:MGÜ Bestecilik Buluşmaları "Eserleri Üzerine Söyleşi"
DESCRIPTION:
URL:https://www.mgu.edu.tr/etkinlik/mgu-bestecilik-bulusmalari-eserleri-uzerine-soylesi/
LOCATION:İcra Sanatları Fakültesi 506 No’lu Dinleti Salonu\, Turan Güneş Bulvarı Yukarı Dikmen Mahallesi\, Neşet Ertaş Caddesi\, No:4 06550 Oran\, Çankaya\, ANKARA\, 06550\, Türkiye
CATEGORIES:Bestecilik Bölümü
ATTACH;FMTTYPE=image/jpeg:https://www.mgu.edu.tr/wp-content/uploads/2024/04/Eserleri-Uzerine-Soylesi-Afis-1.jpg
ORGANIZER;CN="Bestecilik B%C3%B6l%C3%BCm%C3%BC":MAILTO:isf@mgu.edu.tr
END:VEVENT
BEGIN:VEVENT
DTSTART;VALUE=DATE:20240425
DTEND;VALUE=DATE:20240426
DTSTAMP:20260421T043703
CREATED:20240417T075014Z
LAST-MODIFIED:20240417T075014Z
UID:71949-1714003200-1714089599@www.mgu.edu.tr
SUMMARY:“Barış İçin Küçük Bir Şey Yap” Hibrit İyi Niyet Performans Bienali Kongresi
DESCRIPTION:
URL:https://www.mgu.edu.tr/etkinlik/baris-icin-kucuk-bir-sey-yap-hibrit-iyi-niyet-performans-bienali-kongresi/
LOCATION:Ankara Müzik ve Güzel Sanatlar Üniversitesi\, Turan Güneş Bulvarı Yukarı Dikmen Mahallesi\, Neşet Ertaş Caddesi\, No: 4\, Ankara\, Ankara\, 06550\, Turkey
CATEGORIES:Sanat ve Tasarım Fakültesi
ATTACH;FMTTYPE=image/jpeg:https://www.mgu.edu.tr/wp-content/uploads/2024/04/Baris-Icin-Kucuk-Bir-Sey-Yap-Hibrit-Iyi-Niyet-Performans-Bienali-Afis-5.jpg
ORGANIZER;CN="Sanat ve Tasar%C4%B1m Fak%C3%BCltesi":MAILTO:iletisim@mgu.edu.tr
END:VEVENT
END:VCALENDAR