BEGIN:VCALENDAR
VERSION:2.0
PRODID:-//Ankara Müzik ve Güzel Sanatlar Üniversitesi - ECPv6.15.20//NONSGML v1.0//EN
CALSCALE:GREGORIAN
METHOD:PUBLISH
X-WR-CALNAME:Ankara Müzik ve Güzel Sanatlar Üniversitesi
X-ORIGINAL-URL:https://www.mgu.edu.tr
X-WR-CALDESC:Ankara Müzik ve Güzel Sanatlar Üniversitesi için etkinlikler
REFRESH-INTERVAL;VALUE=DURATION:PT1H
X-Robots-Tag:noindex
X-PUBLISHED-TTL:PT1H
BEGIN:VTIMEZONE
TZID:Europe/Istanbul
BEGIN:STANDARD
TZOFFSETFROM:+0300
TZOFFSETTO:+0300
TZNAME:+03
DTSTART:20230101T000000
END:STANDARD
END:VTIMEZONE
BEGIN:VEVENT
DTSTART;VALUE=DATE:20240502
DTEND;VALUE=DATE:20240506
DTSTAMP:20260421T055924
CREATED:20240502T090829Z
LAST-MODIFIED:20240502T091452Z
UID:72687-1714608000-1714953599@www.mgu.edu.tr
SUMMARY:World Art Dubai | Sevinç Yanbeyi Beşer
DESCRIPTION:Üniversitemiz Müzik ve Güzel Sanatlar Eğitim Fakültesi Görsel Sanatlar Eğitimi Bölümü Öğretim Üyesi Dr. Öğr. Üyesi Sevinç YANBEYİ BEŞER\, Dubai-Birleşik Arap Emirlikleri Dünya Ticaret Merkezinde 30 Nisan 2024 – 05 Mayıs 2024 tarihleri arasında düzenlenecek olan World Art Dubai 2024 – Solo Sanatçı olarak katılacak.  \nHocamıza başarılar dileriz.
URL:https://www.mgu.edu.tr/etkinlik/world-art-dubai-sevinc-yanbeyi-beser/
LOCATION:Dubai World Trade Centre\, Dubai World Trade Centre\, Birleşik Arap Emirlikleri
CATEGORIES:Görsel Sanatlar Eğitimi Bölümü,Müzik ve Güzel Sanatlar Eğitim Fakültesi
ATTACH;FMTTYPE=image/jpeg:https://www.mgu.edu.tr/wp-content/uploads/2024/05/World-Art-Dubai-Sevinc-Yanbeyi-Beser-1.jpg
END:VEVENT
BEGIN:VEVENT
DTSTART;TZID=Europe/Istanbul:20240507T123000
DTEND;TZID=Europe/Istanbul:20240507T123000
DTSTAMP:20260421T055924
CREATED:20240507T062950Z
LAST-MODIFIED:20240507T065055Z
UID:72833-1715085000-1715085000@www.mgu.edu.tr
SUMMARY:Müzikli Söyleşi "Yarım Asrı Aşan Hayat ve Müzik Yolculuğu"
DESCRIPTION:
URL:https://www.mgu.edu.tr/etkinlik/muzikli-soylesi-yarim-asri-asan-hayat-ve-muzik-yolculugu/
LOCATION:Müzik ve Güzel Sanatlar Eğitim Fakültesi\, Turan Güneş Bulvarı Yukarı Dikmen Mahallesi\, Neşet Ertaş Caddesi\, No: 4\, Ankara\, Ankara\, 06550\, Türkiye
CATEGORIES:Engelsiz Ankara MGÜ Öğrenci Birimi
ATTACH;FMTTYPE=image/jpeg:https://www.mgu.edu.tr/wp-content/uploads/2024/05/Muzikli-Soylesi-Yarim-Asri-Asan-Hayat-ve-Muzik-Yolculugu-Afis.jpg
ORGANIZER;CN="Engelsiz Ankara MG%C3%9C %C3%96%C4%9Frenci Birimi":MAILTO:iletisim@mgu.edu.tr
END:VEVENT
BEGIN:VEVENT
DTSTART;TZID=Europe/Istanbul:20240507T133000
DTEND;TZID=Europe/Istanbul:20240507T133000
DTSTAMP:20260421T055924
CREATED:20240507T063551Z
LAST-MODIFIED:20240507T065023Z
UID:72838-1715088600-1715088600@www.mgu.edu.tr
SUMMARY:Onur Yılmaz\, Selim Altınok Gitar İkilisi
DESCRIPTION:
URL:https://www.mgu.edu.tr/etkinlik/onur-yilmaz-selim-altinok-gitar-ikilisi/
LOCATION:MGÜ Eğitim Fakültesi Fuaye Alanı\, Turan Güneş Bulvarı Yukarı Dikmen Mahallesi\, Neşet Ertaş Caddesi\, No:4 06550 Oran\, Çankaya\, ANKARA\, 06550
CATEGORIES:Engelsiz Ankara MGÜ Öğrenci Birimi
ATTACH;FMTTYPE=image/jpeg:https://www.mgu.edu.tr/wp-content/uploads/2024/05/Onur-Yilmaz-Selim-Altinok-Gitar-Ikilisi-Afis.jpg
ORGANIZER;CN="Engelsiz Ankara MG%C3%9C %C3%96%C4%9Frenci Birimi":MAILTO:iletisim@mgu.edu.tr
END:VEVENT
BEGIN:VEVENT
DTSTART;TZID=Europe/Istanbul:20240508T123000
DTEND;TZID=Europe/Istanbul:20240508T123000
DTSTAMP:20260421T055924
CREATED:20240507T064107Z
LAST-MODIFIED:20240507T064936Z
UID:72842-1715171400-1715171400@www.mgu.edu.tr
SUMMARY:Türk İşaret Dilinde Çocuk Şarkıları
DESCRIPTION:
URL:https://www.mgu.edu.tr/etkinlik/turk-isaret-dilinde-cocuk-sarkilari/
LOCATION:Müzik ve Güzel Sanatlar Eğitim Fakültesi\, Turan Güneş Bulvarı Yukarı Dikmen Mahallesi\, Neşet Ertaş Caddesi No: 4 Oran Çankaya\, Ankara\, Ankara\, 06550\, Turkey
CATEGORIES:Engelsiz Ankara MGÜ Öğrenci Birimi
ATTACH;FMTTYPE=image/jpeg:https://www.mgu.edu.tr/wp-content/uploads/2024/05/Turk-Isaret-Dilinde-Cocuk-Sarkilari-Afis.jpg
ORGANIZER;CN="Engelsiz Ankara MG%C3%9C %C3%96%C4%9Frenci Birimi":MAILTO:iletisim@mgu.edu.tr
END:VEVENT
BEGIN:VEVENT
DTSTART;TZID=Europe/Istanbul:20240509T123000
DTEND;TZID=Europe/Istanbul:20240509T123000
DTSTAMP:20260421T055924
CREATED:20240507T064621Z
LAST-MODIFIED:20240507T064835Z
UID:72845-1715257800-1715257800@www.mgu.edu.tr
SUMMARY:Engellilikte Hak Temelli Yaklaşım ve İletişim
DESCRIPTION:
URL:https://www.mgu.edu.tr/etkinlik/engellilikte-hak-temelli-yaklasim-ve-iletisim/
LOCATION:Müzik ve Güzel Sanatlar Eğitim Fakültesi 2. Kat Amfi\, Turan Güneş Bulvarı Yukarı Dikmen Mahallesi\, Neşet Ertaş Caddesi\, No:4 06550 Oran\, Çankaya\, ANKARA\, 06550\, Türkiye
CATEGORIES:Engelsiz Ankara MGÜ Öğrenci Birimi
ATTACH;FMTTYPE=image/jpeg:https://www.mgu.edu.tr/wp-content/uploads/2024/05/Engellilikte-Hak-Temelli-Yaklasim-ve-Iletisim-Afis.jpg
END:VEVENT
BEGIN:VEVENT
DTSTART;TZID=Europe/Istanbul:20240514T150000
DTEND;TZID=Europe/Istanbul:20240514T150000
DTSTAMP:20260421T055924
CREATED:20240513T081202Z
LAST-MODIFIED:20240513T081327Z
UID:73029-1715698800-1715698800@www.mgu.edu.tr
SUMMARY:İcra Sanatları Orkestrası ve Korosu “Bahar Konseri”
DESCRIPTION:
URL:https://www.mgu.edu.tr/etkinlik/icra-sanatlari-orkestrasi-ve-korosu-bahar-konseri/
LOCATION:Müzik ve Güzel Sanatlar Eğitim Fakültesi\, Turan Güneş Bulvarı Yukarı Dikmen Mahallesi\, Neşet Ertaş Caddesi\, No: 4\, Ankara\, Ankara\, 06550\, Türkiye
CATEGORIES:İcra Sanatları Fakültesi
ATTACH;FMTTYPE=image/jpeg:https://www.mgu.edu.tr/wp-content/uploads/2024/05/Icra-Sanatlari-Orkestrasi-ve-Korosu-Bahar-Konseri-Afis.jpg
ORGANIZER;CN="%C4%B0cra Sanatlar%C4%B1 Fak%C3%BCltesi":MAILTO:isf@mgu.edu.tr
END:VEVENT
BEGIN:VEVENT
DTSTART;TZID=Europe/Istanbul:20240515T153000
DTEND;TZID=Europe/Istanbul:20240515T153000
DTSTAMP:20260421T055924
CREATED:20240514T054531Z
LAST-MODIFIED:20240514T054602Z
UID:73142-1715787000-1715787000@www.mgu.edu.tr
SUMMARY:MGÜ Bestecilik Buluşmaları “Nadir Plakları Anlamak”
DESCRIPTION:
URL:https://www.mgu.edu.tr/etkinlik/mgu-bestecilik-bulusmalari-nadir-plaklari-anlamak/
LOCATION:İcra Sanatları Fakültesi 506 No’lu Dinleti Salonu\, Turan Güneş Bulvarı Yukarı Dikmen Mahallesi\, Neşet Ertaş Caddesi\, No:4 06550 Oran\, Çankaya\, ANKARA\, 06550\, Türkiye
CATEGORIES:Bestecilik Bölümü
ATTACH;FMTTYPE=image/jpeg:https://www.mgu.edu.tr/wp-content/uploads/2024/05/MGU-Bestecilik-Bulusmalari-Nadir-Plaklari-Anlamak.jpeg
ORGANIZER;CN="Bestecilik B%C3%B6l%C3%BCm%C3%BC":MAILTO:isf@mgu.edu.tr
END:VEVENT
BEGIN:VEVENT
DTSTART;TZID=Europe/Istanbul:20240516T123000
DTEND;TZID=Europe/Istanbul:20240516T123000
DTSTAMP:20260421T055924
CREATED:20240513T081451Z
LAST-MODIFIED:20240513T081516Z
UID:73031-1715862600-1715862600@www.mgu.edu.tr
SUMMARY:Akustik Caz Trio Konseri
DESCRIPTION:
URL:https://www.mgu.edu.tr/etkinlik/akustik-caz-trio-konseri/
LOCATION:İcra Sanatları Fakültesi 206 No’lu Dinleti Salonu\, Turan Güneş Bulvarı Yukarı Dikmen Mahallesi\, Neşet Ertaş Caddesi\, No:4 06550 Oran\, Çankaya\, ANKARA\, 06550
CATEGORIES:İcra Sanatları Fakültesi
ATTACH;FMTTYPE=image/jpeg:https://www.mgu.edu.tr/wp-content/uploads/2024/05/Akustik-Caz-Trio-Konseri-Afis.jpg
ORGANIZER;CN="%C4%B0cra Sanatlar%C4%B1 Fak%C3%BCltesi":MAILTO:isf@mgu.edu.tr
END:VEVENT
BEGIN:VEVENT
DTSTART;TZID=Europe/Istanbul:20240517T110000
DTEND;TZID=Europe/Istanbul:20240517T110000
DTSTAMP:20260421T055924
CREATED:20240515T131004Z
LAST-MODIFIED:20240515T131024Z
UID:73198-1715943600-1715943600@www.mgu.edu.tr
SUMMARY:Çalgıların Çığlığı “Unutulmuş Sazlarımız”
DESCRIPTION:
URL:https://www.mgu.edu.tr/etkinlik/calgilarin-cigligi-unutulmus-sazlarimiz/
LOCATION:İcra Sanatları Fakültesi 206 No’lu Dinleti Salonu\, Turan Güneş Bulvarı Yukarı Dikmen Mahallesi\, Neşet Ertaş Caddesi\, No:4 06550 Oran\, Çankaya\, ANKARA\, 06550
CATEGORIES:İcra Sanatları Fakültesi
ATTACH;FMTTYPE=image/jpeg:https://www.mgu.edu.tr/wp-content/uploads/2024/05/Calgilarin-Cigligi-Unutulmus-Sazlarimiz.jpg.jpg
ORGANIZER;CN="%C4%B0cra Sanatlar%C4%B1 Fak%C3%BCltesi":MAILTO:isf@mgu.edu.tr
END:VEVENT
BEGIN:VEVENT
DTSTART;TZID=Europe/Istanbul:20240517T153000
DTEND;TZID=Europe/Istanbul:20240517T153000
DTSTAMP:20260421T055924
CREATED:20240513T082104Z
LAST-MODIFIED:20240513T082149Z
UID:73033-1715959800-1715959800@www.mgu.edu.tr
SUMMARY:Keman ve Piyano Resitali
DESCRIPTION:
URL:https://www.mgu.edu.tr/etkinlik/keman-ve-piyano-resitali/
LOCATION:Eğitim Fakültesi / MYO Binası 2. Kat Prof. Mehmet Salih ERGAN Dinleti Salonu\, Turan Güneş Bulvarı Yukarı Dikmen Mahallesi\, Neşet Ertaş Caddesi\, No:4 06550 Oran\, Çankaya\, ANKARA\, 06550\, Türkiye
CATEGORIES:İcra Sanatları Fakültesi
ATTACH;FMTTYPE=image/jpeg:https://www.mgu.edu.tr/wp-content/uploads/2024/05/Keman-ve-Piyano-Resitali.jpg
ORGANIZER;CN="%C4%B0cra Sanatlar%C4%B1 Fak%C3%BCltesi":MAILTO:isf@mgu.edu.tr
END:VEVENT
BEGIN:VEVENT
DTSTART;TZID=Europe/Istanbul:20240520T143000
DTEND;TZID=Europe/Istanbul:20240531T000000
DTSTAMP:20260421T055924
CREATED:20240513T130403Z
LAST-MODIFIED:20240513T130628Z
UID:73098-1716215400-1717113600@www.mgu.edu.tr
SUMMARY:Cumhuriyet'in 100. Yılına Armağan "Karma Sergi"
DESCRIPTION:
URL:https://www.mgu.edu.tr/etkinlik/cumhuriyetin-100-yilina-armagan-karma-sergi/
LOCATION:Ankara
CATEGORIES:Müzik ve Güzel Sanatlar Eğitim Fakültesi
ATTACH;FMTTYPE=image/jpeg:https://www.mgu.edu.tr/wp-content/uploads/2024/05/Cumhuriyetin-100.-Yilina-Armagan-Karma-Sergi.jpg
ORGANIZER;CN="M%C3%BCzik ve G%C3%BCzel Sanatlar E%C4%9Fitim Fak%C3%BCltesi":MAILTO:mgsef@mgu.edu.tr
END:VEVENT
BEGIN:VEVENT
DTSTART;TZID=Europe/Istanbul:20240522T153000
DTEND;TZID=Europe/Istanbul:20240522T153000
DTSTAMP:20260421T055924
CREATED:20240522T061131Z
LAST-MODIFIED:20240522T061145Z
UID:73466-1716391800-1716391800@www.mgu.edu.tr
SUMMARY:Besteleme Süreci: İlham ve Yöntemin Kesişimi
DESCRIPTION:
URL:https://www.mgu.edu.tr/etkinlik/besteleme-sureci-ilham-ve-yontemin-kesisimi/
LOCATION:İcra Sanatları Fakültesi 506 No’lu Dinleti Salonu\, Turan Güneş Bulvarı Yukarı Dikmen Mahallesi\, Neşet Ertaş Caddesi\, No:4 06550 Oran\, Çankaya\, ANKARA\, 06550\, Türkiye
CATEGORIES:Bestecilik Bölümü
ATTACH;FMTTYPE=image/jpeg:https://www.mgu.edu.tr/wp-content/uploads/2024/05/Besteleme-Sureci-Ilham-ve-Yontemin-Kesisimi-Afis.jpeg
ORGANIZER;CN="Bestecilik B%C3%B6l%C3%BCm%C3%BC":MAILTO:isf@mgu.edu.tr
END:VEVENT
BEGIN:VEVENT
DTSTART;TZID=Europe/Istanbul:20240524T153000
DTEND;TZID=Europe/Istanbul:20240524T153000
DTSTAMP:20260421T055924
CREATED:20240522T111608Z
LAST-MODIFIED:20240522T111658Z
UID:73554-1716564600-1716564600@www.mgu.edu.tr
SUMMARY:Ankara Müzik ve Güzel Sanatlar Üniversitesi Klasik Türk Müzik Topluluğu "Bahar Konseri"
DESCRIPTION:
URL:https://www.mgu.edu.tr/etkinlik/ankara-muzik-ve-guzel-sanatlar-universitesi-klasik-turk-muzik-toplulugu-bahar-konseri/
LOCATION:MGÜ Eğitim Fakültesi Fuaye Alanı\, Turan Güneş Bulvarı Yukarı Dikmen Mahallesi\, Neşet Ertaş Caddesi\, No:4 06550 Oran\, Çankaya\, ANKARA\, 06550
CATEGORIES:Ankara Müzik ve Güzel Sanatlar Üniversitesi
ATTACH;FMTTYPE=image/jpeg:https://www.mgu.edu.tr/wp-content/uploads/2024/05/Klasik-Turk-Muzik-Toplulugu-Bahar-Konseri-Slide.jpg
ORGANIZER;CN="Ankara M%C3%BCzik ve G%C3%BCzel Sanatlar %C3%9Cniversitesi":MAILTO:iletisim@mgu.edu.tr
END:VEVENT
BEGIN:VEVENT
DTSTART;VALUE=DATE:20240528
DTEND;VALUE=DATE:20240601
DTSTAMP:20260421T055924
CREATED:20240523T064512Z
LAST-MODIFIED:20240531T072913Z
UID:73610-1716854400-1717199999@www.mgu.edu.tr
SUMMARY:MGÜ 3. Kültür\, Sanat ve Spor Şenlikleri Başlıyor!
DESCRIPTION:Üniversitemiz Sağlık Kültür ve Spor Daire Başkanlığı tarafından düzenlenen Spor Turnuvalarına katılmak isteyen öğrencilerimiz\, akademik ve idari personelimiz 23-24 Mayıs tarihleri arasında S.K.S. Kültür ve Spor Hizmetleri Bürosundan başvurularını gerçekleştirebilecektir.
URL:https://www.mgu.edu.tr/etkinlik/mgu-3-kultur-sanat-ve-spor-senlikleri-basliyor/
LOCATION:Ankara Müzik ve Güzel Sanatlar Üniversitesi\, Turan Güneş Bulvarı Yukarı Dikmen Mahallesi\, Neşet Ertaş Caddesi\, No: 4\, Ankara\, Ankara\, 06550\, Turkey
CATEGORIES:Sağlık, Kültür ve Spor Daire Başkanlığı
ATTACH;FMTTYPE=image/jpeg:https://www.mgu.edu.tr/wp-content/uploads/2024/05/MGU-3.-Kultur-Sanat-ve-Spor-Senlikleri-Basliyor-Afis.jpg
ORGANIZER;CN="Sa%C4%9Fl%C4%B1k%2C K%C3%BClt%C3%BCr ve Spor Daire Ba%C5%9Fkanl%C4%B1%C4%9F%C4%B1":MAILTO:saglikkultur@mgu.edu.tr
END:VEVENT
END:VCALENDAR