BEGIN:VCALENDAR
VERSION:2.0
PRODID:-//Ankara Müzik ve Güzel Sanatlar Üniversitesi - ECPv6.15.20//NONSGML v1.0//EN
CALSCALE:GREGORIAN
METHOD:PUBLISH
X-WR-CALNAME:Ankara Müzik ve Güzel Sanatlar Üniversitesi
X-ORIGINAL-URL:https://www.mgu.edu.tr
X-WR-CALDESC:Ankara Müzik ve Güzel Sanatlar Üniversitesi için etkinlikler
REFRESH-INTERVAL;VALUE=DURATION:PT1H
X-Robots-Tag:noindex
X-PUBLISHED-TTL:PT1H
BEGIN:VTIMEZONE
TZID:Europe/Istanbul
BEGIN:STANDARD
TZOFFSETFROM:+0300
TZOFFSETTO:+0300
TZNAME:+03
DTSTART:20240101T000000
END:STANDARD
END:VTIMEZONE
BEGIN:VEVENT
DTSTART;TZID=Europe/Istanbul:20250116T140000
DTEND;TZID=Europe/Istanbul:20250116T140000
DTSTAMP:20260421T163531
CREATED:20250114T092306Z
LAST-MODIFIED:20250114T093140Z
UID:87910-1737036000-1737036000@www.mgu.edu.tr
SUMMARY:"YÖKAK Faaliyetleri\, Kurumsal Akreditasyon Programı\, Kurumsal Dış Değerlendirme Programı ve Değerlendirme Ölçütleri" Konferansı
DESCRIPTION:
URL:https://www.mgu.edu.tr/etkinlik/yokak-faaliyetleri-kurumsal-akreditasyon-programi-kurumsal-dis-degerlendirme-programi-ve-degerlendirme-olcutleri-konferansi/
LOCATION:Müzik ve Sahne Sanatları Fakültesi -1. Kat Büyük Amfi\, Turan Güneş Bulvarı Yukarı Dikmen Mahallesi\, Neşet Ertaş Caddesi\, No:4 06550 Oran\, Çankaya\, Ankara\, 06550\, Turkey
CATEGORIES:Kalite Koordinatörlüğü
ATTACH;FMTTYPE=image/jpeg:https://www.mgu.edu.tr/wp-content/uploads/2025/01/YOKAK-Faaliyetleri-Kurumsal-Akreditasyon-Programi-Kurumsal-Dis-Degerlendirme-Programi-ve-Degerlendirme-Olcutlerinin-Ele-Alinacagi-Konferans-Slide.jpg
ORGANIZER;CN="Kalite Koordinat%C3%B6rl%C3%BC%C4%9F%C3%BC":MAILTO:kalite@mgu.edu.tr
END:VEVENT
END:VCALENDAR