BEGIN:VCALENDAR
VERSION:2.0
PRODID:-//Ankara Müzik ve Güzel Sanatlar Üniversitesi - ECPv6.15.20//NONSGML v1.0//EN
CALSCALE:GREGORIAN
METHOD:PUBLISH
X-WR-CALNAME:Ankara Müzik ve Güzel Sanatlar Üniversitesi
X-ORIGINAL-URL:https://www.mgu.edu.tr
X-WR-CALDESC:Ankara Müzik ve Güzel Sanatlar Üniversitesi için etkinlikler
REFRESH-INTERVAL;VALUE=DURATION:PT1H
X-Robots-Tag:noindex
X-PUBLISHED-TTL:PT1H
BEGIN:VTIMEZONE
TZID:Europe/Istanbul
BEGIN:STANDARD
TZOFFSETFROM:+0300
TZOFFSETTO:+0300
TZNAME:+03
DTSTART:20240101T000000
END:STANDARD
END:VTIMEZONE
BEGIN:VEVENT
DTSTART;TZID=Europe/Istanbul:20250402T200000
DTEND;TZID=Europe/Istanbul:20250402T200000
DTSTAMP:20260421T205644
CREATED:20250326T063357Z
LAST-MODIFIED:20250326T063436Z
UID:92836-1743624000-1743624000@www.mgu.edu.tr
SUMMARY:Farkında Mısınız? 2 Nisan Dünya Otizm Farkındalık Günü Bizim Orkestra Konseri
DESCRIPTION:
URL:https://www.mgu.edu.tr/etkinlik/farkinda-misiniz-2-nisan-dunya-otizm-farkindalik-gunu-bizim-orkestra-konseri/
LOCATION:Bankkart Mavi Salon\, CSO Ada Ankara Bankkart Mavi Salon\, Altındağ\, Ankara\, 06330
CATEGORIES:Ankara Müzik ve Güzel Sanatlar Üniversitesi
ATTACH;FMTTYPE=image/jpeg:https://www.mgu.edu.tr/wp-content/uploads/2025/03/Farkinda-Misiniz-2-Nisan-Dunya-Otizm-Farkindalik-Gunu-Bizim-Orkestra-Konseri-Afis.jpeg
ORGANIZER;CN="Ankara M%C3%BCzik ve G%C3%BCzel Sanatlar %C3%9Cniversitesi":MAILTO:iletisim@mgu.edu.tr
END:VEVENT
BEGIN:VEVENT
DTSTART;TZID=Europe/Istanbul:20250415T123000
DTEND;TZID=Europe/Istanbul:20250415T123000
DTSTAMP:20260421T205644
CREATED:20250415T061105Z
LAST-MODIFIED:20250415T061258Z
UID:93384-1744720200-1744720200@www.mgu.edu.tr
SUMMARY:İmgesel Paradoksallık Yüksek Lisans Öğrencileri Sergisi
DESCRIPTION:
URL:https://www.mgu.edu.tr/etkinlik/imgesel-paradoksallik-yuksek-lisans-ogrencileri-sergisi/
LOCATION:MGÜ Sanat Galerisi\, Turan Güneş Bulvarı Yukarı Dikmen Mahallesi\, Neşet Ertaş Caddesi\, No:4 06550 Oran Çankaya/Ankara\, Ankara\, Ankara\, 06550\, Türkiye
CATEGORIES:Görsel Sanatlar Eğitimi Bölümü
ATTACH;FMTTYPE=image/jpeg:https://www.mgu.edu.tr/wp-content/uploads/2025/04/MGU-Imgesel-Paradoksallik-Yuksek-Lisans-Ogrencileri-Sergisi-scaled.jpg
ORGANIZER;CN="G%C3%B6rsel Sanatlar E%C4%9Fitimi B%C3%B6l%C3%BCm%C3%BC":MAILTO:iletisim@mgu.edu.tr
END:VEVENT
BEGIN:VEVENT
DTSTART;TZID=Europe/Istanbul:20250421T000000
DTEND;TZID=Europe/Istanbul:20250425T000000
DTSTAMP:20260421T205644
CREATED:20250409T064543Z
LAST-MODIFIED:20250409T064726Z
UID:93268-1745193600-1745539200@www.mgu.edu.tr
SUMMARY:4. Kültür\, Sanat ve Spor Şenlikleri Başlıyor
DESCRIPTION:
URL:https://www.mgu.edu.tr/etkinlik/4-kultur-sanat-ve-spor-senlikleri-basliyor/
LOCATION:Ankara Müzik ve Güzel Sanatlar Üniversitesi\, Turan Güneş Bulvarı Yukarı Dikmen Mahallesi\, Neşet Ertaş Caddesi\, No: 4\, Ankara\, Ankara\, 06550\, Turkey
CATEGORIES:Sağlık, Kültür ve Spor Daire Başkanlığı
ATTACH;FMTTYPE=image/jpeg:https://www.mgu.edu.tr/wp-content/uploads/2025/04/4.-Kultur-Sanat-ve-Spor-Senlikleri-Basliyor-Afis.jpg
ORGANIZER;CN="Sa%C4%9Fl%C4%B1k%2C K%C3%BClt%C3%BCr ve Spor Daire Ba%C5%9Fkanl%C4%B1%C4%9F%C4%B1":MAILTO:saglikkultur@mgu.edu.tr
END:VEVENT
END:VCALENDAR