BEGIN:VCALENDAR
VERSION:2.0
PRODID:-//Ankara Müzik ve Güzel Sanatlar Üniversitesi - ECPv6.15.20//NONSGML v1.0//EN
CALSCALE:GREGORIAN
METHOD:PUBLISH
X-ORIGINAL-URL:https://www.mgu.edu.tr
X-WR-CALDESC:Ankara Müzik ve Güzel Sanatlar Üniversitesi için etkinlikler
REFRESH-INTERVAL;VALUE=DURATION:PT1H
X-Robots-Tag:noindex
X-PUBLISHED-TTL:PT1H
BEGIN:VTIMEZONE
TZID:Europe/Istanbul
BEGIN:STANDARD
TZOFFSETFROM:+0300
TZOFFSETTO:+0300
TZNAME:+03
DTSTART:20240101T000000
END:STANDARD
END:VTIMEZONE
BEGIN:VEVENT
DTSTART;TZID=Europe/Istanbul:20250503T150000
DTEND;TZID=Europe/Istanbul:20250503T150000
DTSTAMP:20260421T223401
CREATED:20250502T120655Z
LAST-MODIFIED:20250502T133703Z
UID:94673-1746284400-1746284400@www.mgu.edu.tr
SUMMARY:Sıradan Bir Hikaye Mariya Lado
DESCRIPTION:
URL:https://www.mgu.edu.tr/etkinlik/siradan-bir-hikaye-mariya-lado/
LOCATION:Eğitim Fakültesi Tiyatro Salonu\, Turan Güneş Bulvarı Yukarı Dikmen Mahallesi\, Neşet Ertaş Caddesi\, No:4 06550 Oran\, Çankaya\, ANKARA\, 06550
CATEGORIES:Ankara Müzik ve Güzel Sanatlar Üniversitesi
ATTACH;FMTTYPE=image/jpeg:https://www.mgu.edu.tr/wp-content/uploads/2025/05/Siradan-Bir-Hikaye-Mariya-Lado-Afis.jpg
ORGANIZER;CN="Ankara M%C3%BCzik ve G%C3%BCzel Sanatlar %C3%9Cniversitesi":MAILTO:iletisim@mgu.edu.tr
END:VEVENT
BEGIN:VEVENT
DTSTART;TZID=Europe/Istanbul:20250509T000000
DTEND;TZID=Europe/Istanbul:20250510T000000
DTSTAMP:20260421T223401
CREATED:20250428T104602Z
LAST-MODIFIED:20250428T111652Z
UID:94504-1746748800-1746835200@www.mgu.edu.tr
SUMMARY:Otizmli Bireylerin Müzik Eğitiminde Etkili Öğretim Yöntemleri ve Uygulama Stratejileri Çalıştayı
DESCRIPTION:
URL:https://www.mgu.edu.tr/etkinlik/otizmli-bireylerin-muzik-egitiminde-etkili-ogretim-yontemleri-ve-uygulama-stratejileri-calistayi/
LOCATION:Ankara Müzik ve Güzel Sanatlar Üniversitesi\, Turan Güneş Bulvarı Yukarı Dikmen Mahallesi\, Neşet Ertaş Caddesi\, No: 4\, Ankara\, Ankara\, 06550\, Turkey
CATEGORIES:Ankara Müzik ve Güzel Sanatlar Üniversitesi
ATTACH;FMTTYPE=image/jpeg:https://www.mgu.edu.tr/wp-content/uploads/2025/04/Otizmli-Bireylerin-Muzik-Egitiminde-Etkili-Ogretim-Yontemleri-ve-Uygulama-Stratejileri-Calistayi-Afis-1.jpg
ORGANIZER;CN="Ankara M%C3%BCzik ve G%C3%BCzel Sanatlar %C3%9Cniversitesi":MAILTO:iletisim@mgu.edu.tr
END:VEVENT
BEGIN:VEVENT
DTSTART;TZID=Europe/Istanbul:20250513T140000
DTEND;TZID=Europe/Istanbul:20250513T140000
DTSTAMP:20260421T223401
CREATED:20250512T134019Z
LAST-MODIFIED:20250512T134048Z
UID:94888-1747144800-1747144800@www.mgu.edu.tr
SUMMARY:Grafik Ana Sanat Atölyesi Mezuniyet Sergisi
DESCRIPTION:
URL:https://www.mgu.edu.tr/etkinlik/grafik-ana-sanat-atolyesi-mezuniyet-sergisi/
LOCATION:MGÜ Sanat Galerisi\, Turan Güneş Bulvarı Yukarı Dikmen Mahallesi\, Neşet Ertaş Caddesi\, No:4 06550 Oran Çankaya/Ankara\, Ankara\, Ankara\, 06550\, Türkiye
CATEGORIES:Müzik ve Güzel Sanatlar Eğitim Fakültesi
ORGANIZER;CN="M%C3%BCzik ve G%C3%BCzel Sanatlar E%C4%9Fitim Fak%C3%BCltesi":MAILTO:mgsef@mgu.edu.tr
END:VEVENT
BEGIN:VEVENT
DTSTART;TZID=Europe/Istanbul:20250516T093000
DTEND;TZID=Europe/Istanbul:20250516T093000
DTSTAMP:20260421T223401
CREATED:20250514T081948Z
LAST-MODIFIED:20250514T105718Z
UID:95060-1747387800-1747387800@www.mgu.edu.tr
SUMMARY:Panel Duyurusu: Ezginin Kimliği “Makam ve Terkib Üzerine”
DESCRIPTION:
URL:https://www.mgu.edu.tr/etkinlik/panel-duyurusu-ezginin-kimligi-makam-ve-terkib-uzerine/
LOCATION:Müzik ve Güzel Sanatlar Eğitim Fakültesi\, Turan Güneş Bulvarı Yukarı Dikmen Mahallesi\, Neşet Ertaş Caddesi\, No: 4\, Ankara\, Ankara\, 06550\, Türkiye
CATEGORIES:Müzik Bilimleri ve Teknolojileri Fakültesi
ATTACH;FMTTYPE=image/jpeg:https://www.mgu.edu.tr/wp-content/uploads/2025/05/Ezginin-Kimligi-Makam-ve-Terkib-Uzerine-Afis.jpg
ORGANIZER;CN="M%C3%BCzik Bilimleri ve Teknolojileri Fak%C3%BCltesi":MAILTO:mbtf@mgu.edu.tr
END:VEVENT
BEGIN:VEVENT
DTSTART;TZID=Europe/Istanbul:20250528T120000
DTEND;TZID=Europe/Istanbul:20250528T120000
DTSTAMP:20260421T223401
CREATED:20250527T114744Z
LAST-MODIFIED:20250527T114949Z
UID:95811-1748433600-1748433600@www.mgu.edu.tr
SUMMARY:"Kökler ve Düşler" Prof. Dr. Güzin AYRANCIOĞLU Resim Ana Sanat Atölyesi Mezuniyet Sergisi
DESCRIPTION:
URL:https://www.mgu.edu.tr/etkinlik/kokler-ve-dusler-prof-dr-guzin-ayrancioglu-resim-ana-sanat-atolyesi-mezuniyet-sergisi/
LOCATION:MGÜ Sanat Galerisi\, Turan Güneş Bulvarı Yukarı Dikmen Mahallesi\, Neşet Ertaş Caddesi\, No:4 06550 Oran Çankaya/Ankara\, Ankara\, Ankara\, 06550\, Türkiye
CATEGORIES:Görsel Sanatlar Eğitimi Bölümü
ATTACH;FMTTYPE=image/jpeg:https://www.mgu.edu.tr/wp-content/uploads/2025/05/Kokler-ve-Dusler-Mezuniyet-Sergisi-Afis.jpg
ORGANIZER;CN="G%C3%B6rsel Sanatlar E%C4%9Fitimi B%C3%B6l%C3%BCm%C3%BC":MAILTO:iletisim@mgu.edu.tr
END:VEVENT
END:VCALENDAR