BEGIN:VCALENDAR
VERSION:2.0
PRODID:-//Ankara Müzik ve Güzel Sanatlar Üniversitesi - ECPv6.15.20//NONSGML v1.0//EN
CALSCALE:GREGORIAN
METHOD:PUBLISH
X-ORIGINAL-URL:https://www.mgu.edu.tr
X-WR-CALDESC:Ankara Müzik ve Güzel Sanatlar Üniversitesi için etkinlikler
REFRESH-INTERVAL;VALUE=DURATION:PT1H
X-Robots-Tag:noindex
X-PUBLISHED-TTL:PT1H
BEGIN:VTIMEZONE
TZID:Europe/Istanbul
BEGIN:STANDARD
TZOFFSETFROM:+0300
TZOFFSETTO:+0300
TZNAME:+03
DTSTART:20240101T000000
END:STANDARD
END:VTIMEZONE
BEGIN:VEVENT
DTSTART;VALUE=DATE:20251105
DTEND;VALUE=DATE:20251108
DTSTAMP:20260422T053413
CREATED:20251028T081747Z
LAST-MODIFIED:20251028T083011Z
UID:107154-1762300800-1762559999@www.mgu.edu.tr
SUMMARY:100+2 Şehirler Arası Karma Sergi
DESCRIPTION:Cumhuriyetimizin kuruluş yıl dönümü münasebetiyle gerçekleştirilen “100+” ve “100+1” Şehirlerarası Karma Sergilerinin ardından\, bu yıl “100+2 Şehirlerarası Karma Sergisi” sanatseverlerle buluşuyor. 5 – 7 Kasım 2025 tarihleri arasında gerçekleştirilecek olan sergi; Ankara\, Adıyaman\, Kilis\, Kocaeli\, Sakarya\, Düzce\, Bitlis\, Balıkesir\, Samsun\, Antalya\, İzmir\, Van\, Eskişehir\, Kırıkkale\, Konya\, Kars\, Trabzon ve Tokat illerinde eş zamanlı olarak izleyicilerle buluşacaktır. Farklı sanat dallarını bir araya getiren bu anlamlı etkinlik\, sanatseverlere geniş bir yelpazede eserleri görme imkânı sunarken\, aynı zamanda ulusal birlik ve beraberlik konusunda farkındalık oluşturmayı amaçlamaktadır. Cumhuriyetimizin 102. yılı onuruna düzenlenen bu anlamlı sergilere tüm sanatseverler davetlidir. \n  \nTARİH VE SAAT  5 – 7 Kasım 2025  \nKÜRATÖR  Prof. Ruhi KONAK \nKATILIMCI ŞEHİRLERAnkara-Adıyaman-Kilis-Kocaeli-Sakarya-Düzce-BitlisBalıkesir-Samsun-Antalya-İzmir-Van-EskişehirKırıkkale-Konya-Kars-Trabzon-Tokat
URL:https://www.mgu.edu.tr/etkinlik/1002-sehirler-arasi-karma-sergi/
LOCATION:Ankara
CATEGORIES:Ankara Müzik ve Güzel Sanatlar Üniversitesi,Geleneksel Türk Sanatları Bölümü,MGÜ Sanat Galerisi,Sanat ve Tasarım Fakültesi
ATTACH;FMTTYPE=image/jpeg:https://www.mgu.edu.tr/wp-content/uploads/2025/10/1002-Sehirler-Arasi-Karma-Sergi-Afis.jpg
ORGANIZER;CN="Sanat ve Tasar%C4%B1m Fak%C3%BCltesi":MAILTO:iletisim@mgu.edu.tr
END:VEVENT
BEGIN:VEVENT
DTSTART;TZID=Europe/Istanbul:20251105T140000
DTEND;TZID=Europe/Istanbul:20251105T140000
DTSTAMP:20260422T053413
CREATED:20251015T115218Z
LAST-MODIFIED:20251028T082632Z
UID:106053-1762351200-1762351200@www.mgu.edu.tr
SUMMARY:100+2 Şehirler Arası Karma Sergi-Ankara
DESCRIPTION:Ankara Müzik ve Güzel Sanatlar Üniversitesi\, Sanat ve Tasarım Fakültesi\, Geleneksel Türk Sanatları Bölümü tarafından\, Prof. Ruhi Konak küratörlüğünde Türkiye Cumhuriyeti’nin 102. yılı münasebetiyle düzenlenen “100+2 Şehirler Arası Karma Sergi”\, \nAnkara\, Adıyaman\, Antalya\, Balıkesir\, Bitlis\, Düzce\, Eskişehir\, İzmir\, Kars\, Kırıkkale\, Kilis\, Kocaeli\, Konya\, Samsun\, Sakarya\, Tokat\, Trabzon ve Van illerinde eş zamanlı olarak gerçekleştirilecektir. \nBu kapsamda\, Ankara sergisi 27 Ekim 2025 tarihinde saat 14.00’te Ankara Müzik ve Güzel Sanatlar Üniversitesi Sanat Galerisi’nde sanatseverlerle buluşacaktır. \nCumhuriyetimizin 102. yılı onuruna düzenlenen bu anlamlı sergiye tüm sanatseverler davetlidir. \nTARİH VE SAAT \n5 Kasım 2025 Çarşamba | 14:00 \nMEKAN\nAnkara Müzik ve Güzel Sanatlar Üniversitesi Sanat Galerisi
URL:https://www.mgu.edu.tr/etkinlik/1002-sehirler-arasi-karma-sergi-ankara/
LOCATION:MGÜ Sanat Galerisi\, Turan Güneş Bulvarı Yukarı Dikmen Mahallesi\, Neşet Ertaş Caddesi\, No:4 06550 Oran Çankaya/Ankara\, Ankara\, Ankara\, 06550\, Türkiye
CATEGORIES:Ankara Müzik ve Güzel Sanatlar Üniversitesi,Geleneksel Türk Sanatları Bölümü,MGÜ Sanat Galerisi,Sanat ve Tasarım Fakültesi
ATTACH;FMTTYPE=image/jpeg:https://www.mgu.edu.tr/wp-content/uploads/2025/10/1002-Sehirler-Arasi-Karma-Sergi-Ankara-Sergisi-Afis-1.jpg
ORGANIZER;CN="Sanat ve Tasar%C4%B1m Fak%C3%BCltesi":MAILTO:iletisim@mgu.edu.tr
END:VEVENT
BEGIN:VEVENT
DTSTART;TZID=Europe/Istanbul:20251120T080000
DTEND;TZID=Europe/Istanbul:20251121T170000
DTSTAMP:20260422T053413
CREATED:20251110T103640Z
LAST-MODIFIED:20251110T103706Z
UID:108042-1763625600-1763744400@www.mgu.edu.tr
SUMMARY:İş Kulübü Eğitimi
DESCRIPTION:
URL:https://www.mgu.edu.tr/etkinlik/is-kulubu-egitimi/
LOCATION:Müzik ve Sahne Sanatları Fakültesi 206 No’lu Dinleti Salonu\, Turan Güneş Bulvarı Yukarı Dikmen Mahallesi\, Neşet Ertaş Caddesi\, No:4 06550 Oran\, Çankaya\, Ankara\, 06550\, Turkey
CATEGORIES:Ankara Müzik ve Güzel Sanatlar Üniversitesi,Kariyer Geliştirme Uygulama ve Araştırma Merkezi
ATTACH;FMTTYPE=image/jpeg:https://www.mgu.edu.tr/wp-content/uploads/2025/11/Is-Kulubu-Egitimi-Afis.jpg
ORGANIZER;CN="Ankara M%C3%BCzik ve G%C3%BCzel Sanatlar %C3%9Cniversitesi":MAILTO:iletisim@mgu.edu.tr
END:VEVENT
BEGIN:VEVENT
DTSTART;TZID=Europe/Istanbul:20251127T103000
DTEND;TZID=Europe/Istanbul:20251128T000000
DTSTAMP:20260422T053413
CREATED:20251119T110448Z
LAST-MODIFIED:20251119T111001Z
UID:108833-1764239400-1764288000@www.mgu.edu.tr
SUMMARY:Ney & Tanbur Buluşmaları 2
DESCRIPTION:
URL:https://www.mgu.edu.tr/etkinlik/ney-tanbur-bulusmalari-2/
LOCATION:Müzik ve Sahne Sanatları Fakültesi -1. Kat Büyük Amfi\, Turan Güneş Bulvarı Yukarı Dikmen Mahallesi\, Neşet Ertaş Caddesi\, No:4 06550 Oran\, Çankaya\, Ankara\, 06550\, Turkey
CATEGORIES:Ankara Müzik ve Güzel Sanatlar Üniversitesi
ATTACH;FMTTYPE=image/jpeg:https://www.mgu.edu.tr/wp-content/uploads/2025/11/Ney-Tanbur-Bulusmalari-2-Afis-1.jpg
ORGANIZER;CN="MG%C3%9C Klasik T%C3%BCrk M%C3%BCzi%C4%9Fi Toplulu%C4%9Fu":MAILTO:saglikkultur@mgu.edu.tr
END:VEVENT
END:VCALENDAR