BEGIN:VCALENDAR
VERSION:2.0
PRODID:-//Ankara Müzik ve Güzel Sanatlar Üniversitesi - ECPv6.15.20//NONSGML v1.0//EN
CALSCALE:GREGORIAN
METHOD:PUBLISH
X-ORIGINAL-URL:https://www.mgu.edu.tr
X-WR-CALDESC:Ankara Müzik ve Güzel Sanatlar Üniversitesi için etkinlikler
REFRESH-INTERVAL;VALUE=DURATION:PT1H
X-Robots-Tag:noindex
X-PUBLISHED-TTL:PT1H
BEGIN:VTIMEZONE
TZID:Europe/Istanbul
BEGIN:STANDARD
TZOFFSETFROM:+0300
TZOFFSETTO:+0300
TZNAME:+03
DTSTART:20250101T000000
END:STANDARD
END:VTIMEZONE
BEGIN:VEVENT
DTSTART;VALUE=DATE:20260302
DTEND;VALUE=DATE:20260308
DTSTAMP:20260422T112507
CREATED:20260224T111347Z
LAST-MODIFIED:20260224T111347Z
UID:116035-1772409600-1772927999@www.mgu.edu.tr
SUMMARY:III. Uluslararası Viyolonsel Günleri
DESCRIPTION:Detaylı Bilgi İçin Tıklayınız...
URL:https://www.mgu.edu.tr/etkinlik/iii-uluslararasi-viyolonsel-gunleri/
LOCATION:Ankara Müzik ve Güzel Sanatlar Üniversitesi\, Turan Güneş Bulvarı Yukarı Dikmen Mahallesi\, Neşet Ertaş Caddesi\, No: 4\, Ankara\, Ankara\, 06550\, Turkey
CATEGORIES:Müzik Bölümü,Müzik ve Sahne Sanatları Fakültesi
ATTACH;FMTTYPE=image/jpeg:https://www.mgu.edu.tr/wp-content/uploads/2026/02/3.-Uluslararasi-Viyolonsel-Gunleri-Afis.jpg
ORGANIZER;CN="M%C3%BCzik ve Sahne Sanatlar%C4%B1 Fak%C3%BCltesi":MAILTO:mssf@mgu.edu.tr
END:VEVENT
BEGIN:VEVENT
DTSTART;TZID=Europe/Istanbul:20260310T133000
DTEND;TZID=Europe/Istanbul:20260310T133000
DTSTAMP:20260422T112507
CREATED:20260305T112557Z
LAST-MODIFIED:20260305T113121Z
UID:116391-1773149400-1773149400@www.mgu.edu.tr
SUMMARY:"Âhengin Latif Sesi: Kadınlar" Dünya Kadınlar Günü Konseri
DESCRIPTION:Detaylı Bilgi İçin Tıklayınız...
URL:https://www.mgu.edu.tr/etkinlik/ahengin-latif-sesi-kadinlar-dunya-kadinlar-gunu-konseri/
LOCATION:Sanat ve Tasarım Fakültesi 4. Kat Konferans Salonu\, Turan Güneş Bulvarı Yukarı Dikmen Mahallesi\, Neşet Ertaş Caddesi No: 4\, Çankaya\, Ankara\, 06550\, Turkey
CATEGORIES:Müzik ve Sahne Sanatları Uygulama ve Araştırma Merkezi
ATTACH;FMTTYPE=image/jpeg:https://www.mgu.edu.tr/wp-content/uploads/2026/03/Ahengin-Latif-Sesi-Kadinlar-Dunya-Kadinlar-Gunu-Konseri-Afis.jpg
ORGANIZER;CN="M%C3%BCzik ve Sahne Sanatlar%C4%B1 Uygulama ve Ara%C5%9Ft%C4%B1rma Merkezi":MAILTO:iletisim@mgu.edu.tr
END:VEVENT
BEGIN:VEVENT
DTSTART;TZID=Europe/Istanbul:20260316T123000
DTEND;TZID=Europe/Istanbul:20260316T123000
DTSTAMP:20260422T112507
CREATED:20260312T081103Z
LAST-MODIFIED:20260312T081929Z
UID:116603-1773664200-1773664200@www.mgu.edu.tr
SUMMARY:Sessizlikte Hayat: Sağır Bir Bireyin Deneyimleri ve Başarı Hikayeleri
DESCRIPTION:Detaylı Bilgi İçin Tıklayınız...
URL:https://www.mgu.edu.tr/etkinlik/sessizlikte-hayat-sagir-bir-bireyin-deneyimleri-ve-basari-hikayeleri/
LOCATION:Müzik ve Güzel Sanatlar Eğitim Fakültesi  230 No’lu Amfi\, Turan Güneş Bulvarı Yukarı Dikmen Mahallesi\, Neşet Ertaş Caddesi\, No: 4\, Çankaya\, Ankara\, 06550\, Turkey
CATEGORIES:Engelsiz Müzik ve Görsel Sanatlar Çalışmaları Uygulama ve Araştırma Merkezi
ATTACH;FMTTYPE=image/jpeg:https://www.mgu.edu.tr/wp-content/uploads/2026/03/Sessizlikte-Hayat-Sagir-Bir-Bireyin-Deneyimleri-ve-Basari-Hikayeleri-Afis.jpg
ORGANIZER;CN="Engelsiz M%C3%BCzik ve G%C3%B6rsel Sanatlar %C3%87al%C4%B1%C5%9Fmalar%C4%B1 ve Uygulama Ara%C5%9Ft%C4%B1rma Merkezi":MAILTO:engelsiz.uam@mgu.edu.tr
END:VEVENT
BEGIN:VEVENT
DTSTART;TZID=Europe/Istanbul:20260326T110000
DTEND;TZID=Europe/Istanbul:20260326T110000
DTSTAMP:20260422T112507
CREATED:20260325T085658Z
LAST-MODIFIED:20260325T085805Z
UID:116824-1774522800-1774522800@www.mgu.edu.tr
SUMMARY:Kaval Dinleti
DESCRIPTION:Detaylı Bilgi İçin Tıklayınız...
URL:https://www.mgu.edu.tr/etkinlik/kaval-dinleti/
LOCATION:Müzik ve Sahne Sanatları Fakültesi  4. Kat 412 No’lu Sınıf\, Turan Güneş Bulvarı Yukarı Dikmen Mahallesi\, Neşet Ertaş Caddesi\, No: 4\, Çankaya\, Ankara\, 06550\, Turkey
CATEGORIES:Müzik ve Sahne Sanatları Fakültesi,Türk Halk Müziği Bölümü
ATTACH;FMTTYPE=image/jpeg:https://www.mgu.edu.tr/wp-content/uploads/2026/03/Kaval-Dinleti-Afis-1.jpg
ORGANIZER;CN="M%C3%BCzik ve Sahne Sanatlar%C4%B1 Fak%C3%BCltesi":MAILTO:mssf@mgu.edu.tr
END:VEVENT
BEGIN:VEVENT
DTSTART;TZID=Europe/Istanbul:20260326T140000
DTEND;TZID=Europe/Istanbul:20260326T140000
DTSTAMP:20260422T112507
CREATED:20260323T130730Z
LAST-MODIFIED:20260323T130752Z
UID:116757-1774533600-1774533600@www.mgu.edu.tr
SUMMARY:Kanserde Erken Tanı Hayat Kurtarır
DESCRIPTION:Detaylı Bilgi İçin Tıklayınız...
URL:https://www.mgu.edu.tr/etkinlik/kanserde-erken-tani-hayat-kurtarir/
LOCATION:Rektörlük Zemin Kat Toplantı Salonu\, Turan Güneş Bulvarı Yukarı Dikmen Mahallesi\, Neşet Ertaş Caddesi\, No:4 06550 Oran Çankaya/Ankara\, Ankara\, 06550\, Türkiye
CATEGORIES:Ankara Müzik ve Güzel Sanatlar Üniversitesi
ATTACH;FMTTYPE=image/jpeg:https://www.mgu.edu.tr/wp-content/uploads/2026/03/Kanserde-Erken-Tani-Hayat-Kurtarir-Afis.jpg
ORGANIZER;CN="Ankara M%C3%BCzik ve G%C3%BCzel Sanatlar %C3%9Cniversitesi":MAILTO:iletisim@mgu.edu.tr
END:VEVENT
BEGIN:VEVENT
DTSTART;VALUE=DATE:20260327
DTEND;VALUE=DATE:20260331
DTSTAMP:20260422T112507
CREATED:20260227T135910Z
LAST-MODIFIED:20260227T140335Z
UID:116238-1774569600-1774915199@www.mgu.edu.tr
SUMMARY:MGÜ Klarinet Günleri
DESCRIPTION:Etkinlik Duyuru Detayları İçin Tıklayınız...Etkinlik Web Sayfası ve Detaylı Biligi İçin Tıklayınız...
URL:https://www.mgu.edu.tr/etkinlik/mgu-klarinet-gunleri/
LOCATION:Ankara Müzik ve Güzel Sanatlar Üniversitesi\, Turan Güneş Bulvarı Yukarı Dikmen Mahallesi\, Neşet Ertaş Caddesi\, No: 4\, Ankara\, Ankara\, 06550\, Turkey
CATEGORIES:Müzik Bölümü,Sağlık, Kültür ve Spor Daire Başkanlığı
ORGANIZER;CN="Bat%C4%B1 M%C3%BCzi%C4%9Fi %C3%9Cflemeli %C3%87alg%C4%B1lar Toplulu%C4%9Fu":MAILTO:sks@mgu.edu.tr
END:VEVENT
END:VCALENDAR