BEGIN:VCALENDAR
VERSION:2.0
PRODID:-//Ankara Müzik ve Güzel Sanatlar Üniversitesi - ECPv6.15.20//NONSGML v1.0//EN
CALSCALE:GREGORIAN
METHOD:PUBLISH
X-WR-CALNAME:Ankara Müzik ve Güzel Sanatlar Üniversitesi
X-ORIGINAL-URL:https://www.mgu.edu.tr
X-WR-CALDESC:Ankara Müzik ve Güzel Sanatlar Üniversitesi için etkinlikler
REFRESH-INTERVAL;VALUE=DURATION:PT1H
X-Robots-Tag:noindex
X-PUBLISHED-TTL:PT1H
BEGIN:VTIMEZONE
TZID:Europe/Istanbul
BEGIN:STANDARD
TZOFFSETFROM:+0300
TZOFFSETTO:+0300
TZNAME:+03
DTSTART:20250101T000000
END:STANDARD
END:VTIMEZONE
BEGIN:VEVENT
DTSTART;TZID=Europe/Istanbul:20260421T123000
DTEND;TZID=Europe/Istanbul:20260422T170000
DTSTAMP:20260420T221541
CREATED:20260417T081612Z
LAST-MODIFIED:20260417T082056Z
UID:117487-1776774600-1776877200@www.mgu.edu.tr
SUMMARY:Seminer ve Atölye Çalışması: Tahta Üflemeli Çalgılar Bakım ve Onarımı
DESCRIPTION:Detaylı Bilgi için Tıklayınız...
URL:https://www.mgu.edu.tr/etkinlik/seminer-ve-atolye-calismasi-tahta-uflemeli-calgilar-bakim-ve-onarimi/
LOCATION:Müzik ve Sahne Sanatları Fakültesi (Yeni Bina)  1. Kat 136 No’lu Salon\, Turan Güneş Bulvarı Yukarı Dikmen Mahallesi\, Neşet Ertaş Caddesi\, No: 4\, Çankaya\, Ankara\, 06550\, Turkey
CATEGORIES:Ankara Müzik ve Güzel Sanatlar Üniversitesi,Müzik ve Sahne Sanatları Fakültesi,Sağlık, Kültür ve Spor Daire Başkanlığı,Sahne Sanatları Bölümü
ATTACH;FMTTYPE=image/jpeg:https://www.mgu.edu.tr/wp-content/uploads/2026/04/Seminer-ve-Atolye-Calismasi-Tahta-Uflemeli-Calgilar-Bakim-ve-Onarimi-Afis.jpg
ORGANIZER;CN="Bat%C4%B1 M%C3%BCzi%C4%9Fi %C3%9Cflemeli %C3%87alg%C4%B1lar Toplulu%C4%9Fu":MAILTO:sks@mgu.edu.tr
END:VEVENT
END:VCALENDAR